BEGIN:VCALENDAR
VERSION:2.0
PRODID:-//BAR | Bay Area Registry - ECPv6.15.20//NONSGML v1.0//EN
CALSCALE:GREGORIAN
METHOD:PUBLISH
X-ORIGINAL-URL:https://bayarearegistry.com
X-WR-CALDESC:Events for BAR | Bay Area Registry
REFRESH-INTERVAL;VALUE=DURATION:PT1H
X-Robots-Tag:noindex
X-PUBLISHED-TTL:PT1H
BEGIN:VTIMEZONE
TZID:America/Los_Angeles
BEGIN:DAYLIGHT
TZOFFSETFROM:-0800
TZOFFSETTO:-0700
TZNAME:PDT
DTSTART:20250309T100000
END:DAYLIGHT
BEGIN:STANDARD
TZOFFSETFROM:-0700
TZOFFSETTO:-0800
TZNAME:PST
DTSTART:20251102T090000
END:STANDARD
BEGIN:DAYLIGHT
TZOFFSETFROM:-0800
TZOFFSETTO:-0700
TZNAME:PDT
DTSTART:20260308T100000
END:DAYLIGHT
BEGIN:STANDARD
TZOFFSETFROM:-0700
TZOFFSETTO:-0800
TZNAME:PST
DTSTART:20261101T090000
END:STANDARD
BEGIN:DAYLIGHT
TZOFFSETFROM:-0800
TZOFFSETTO:-0700
TZNAME:PDT
DTSTART:20270314T100000
END:DAYLIGHT
BEGIN:STANDARD
TZOFFSETFROM:-0700
TZOFFSETTO:-0800
TZNAME:PST
DTSTART:20271107T090000
END:STANDARD
END:VTIMEZONE
BEGIN:VEVENT
DTSTART;VALUE=DATE:20260522
DTEND;VALUE=DATE:20260524
DTSTAMP:20260419T194036
CREATED:20260307T092834Z
LAST-MODIFIED:20260307T092834Z
UID:10010503-1779408000-1779580799@bayarearegistry.com
SUMMARY:Western Ballet's Don Quixote
DESCRIPTION:In celebration of Western Ballet’s 50th Anniversary\, Don Quixote premieres as a full‑length\, comedic ballet in three acts\, bursting with vibrant Spanish flair\, exhilarating virtuosity\, and joyful storytelling. This milestone production features all‑new sets designed by Peter Crompton and created by Rooster Productions\, along with new costumes by Yanis E. Pikieris\, bringing fresh visual richness to this beloved classic. With spirited ensemble scenes\, brilliant classical technique\, and dynamic character dancing\, the ballet showcases the energy and artistry that have defined Western Ballet for five decades. \nInfo & Tickets
URL:https://bayarearegistry.com/event/western-ballets-don-quixote/
LOCATION:Mountain View Center for the Performing Arts\,  500 Castro St\, Mountain View\, CA\, 94041\, United States
CATEGORIES:Arts + Culture,Dance,North Bay,Peninsula (Millbrae & south to Palo Alto, incl HMB & Coast),Performing Arts
ATTACH;FMTTYPE=image/jpeg:https://bayarearegistry.com/wp-content/uploads/2026/03/don_quixote.jpeg-e1772875674296.jpg
END:VEVENT
END:VCALENDAR