BEGIN:VCALENDAR
VERSION:2.0
PRODID:-//BAR | Bay Area Registry - ECPv6.15.20//NONSGML v1.0//EN
CALSCALE:GREGORIAN
METHOD:PUBLISH
X-WR-CALNAME:BAR | Bay Area Registry
X-ORIGINAL-URL:https://bayarearegistry.com
X-WR-CALDESC:Events for BAR | Bay Area Registry
REFRESH-INTERVAL;VALUE=DURATION:PT1H
X-Robots-Tag:noindex
X-PUBLISHED-TTL:PT1H
BEGIN:VTIMEZONE
TZID:America/Los_Angeles
BEGIN:DAYLIGHT
TZOFFSETFROM:-0800
TZOFFSETTO:-0700
TZNAME:PDT
DTSTART:20250309T100000
END:DAYLIGHT
BEGIN:STANDARD
TZOFFSETFROM:-0700
TZOFFSETTO:-0800
TZNAME:PST
DTSTART:20251102T090000
END:STANDARD
BEGIN:DAYLIGHT
TZOFFSETFROM:-0800
TZOFFSETTO:-0700
TZNAME:PDT
DTSTART:20260308T100000
END:DAYLIGHT
BEGIN:STANDARD
TZOFFSETFROM:-0700
TZOFFSETTO:-0800
TZNAME:PST
DTSTART:20261101T090000
END:STANDARD
BEGIN:DAYLIGHT
TZOFFSETFROM:-0800
TZOFFSETTO:-0700
TZNAME:PDT
DTSTART:20270314T100000
END:DAYLIGHT
BEGIN:STANDARD
TZOFFSETFROM:-0700
TZOFFSETTO:-0800
TZNAME:PST
DTSTART:20271107T090000
END:STANDARD
END:VTIMEZONE
BEGIN:VEVENT
DTSTART;TZID=America/Los_Angeles:20260425T140000
DTEND;TZID=America/Los_Angeles:20260425T151500
DTSTAMP:20260425T181001
CREATED:20260405T080050Z
LAST-MODIFIED:20260405T080050Z
UID:10010629-1777125600-1777130100@bayarearegistry.com
SUMMARY:Fractionees: Pre-Algebra Workshop for Middle Schoolers By Kenisha Carr
DESCRIPTION:Small-group middle school math workshop at Oakland’s Dimond Branch Library focused on understanding fractions with different denominators. \nInfo & Tickets
URL:https://bayarearegistry.com/event/fractionees-pre-algebra-workshop-for-middle-schoolers-by-kenisha-carr/
LOCATION:Oakland Public Library: Dimond Branch\, 3565 Fruitvale Ave\, Oakland\, 94602\, United States
CATEGORIES:Arts + Culture,East Bay,Education,Oakland
ATTACH;FMTTYPE=image/png:https://bayarearegistry.com/wp-content/uploads/2026/04/fractionees_prealgebra_workshop_for_middle_schoolers-scaled-e1775375898444.png
END:VEVENT
BEGIN:VEVENT
DTSTART;TZID=America/Los_Angeles:20260328T140000
DTEND;TZID=America/Los_Angeles:20260328T140000
DTSTAMP:20260425T181001
CREATED:20260318T065825Z
LAST-MODIFIED:20260401T064958Z
UID:10010514-1774706400-1774706400@bayarearegistry.com
SUMMARY:Middle School Math Workshop: Strengthen Addition & Subtraction Skills
DESCRIPTION:Foundationees (pronounced foun-day-she-own-eez): Addition & Subtraction Edition is a small-group math workshop for students in grades 6–8 at Oakland’s Dimond Branch Library\, focused on strengthening addition and subtraction accuracy and number sense. \nInfo & Tickets
URL:https://bayarearegistry.com/event/middle-school-math-workshop-strengthen-addition-subtraction-skills/
LOCATION:Oakland Public Library: Dimond Branch\, 3565 Fruitvale Ave\, Oakland\, 94602\, United States
CATEGORIES:Arts + Culture,Conversations + Speakers + Conferences,East Bay,Oakland
ATTACH;FMTTYPE=image/png:https://bayarearegistry.com/wp-content/uploads/2026/03/middle_school_math_workshop_addition__subtraction_oakland_ca_foundationees-1-scaled-e1773817062944.png
END:VEVENT
BEGIN:VEVENT
DTSTART;TZID=America/Los_Angeles:20260211T180000
DTEND;TZID=America/Los_Angeles:20260211T183000
DTSTAMP:20260425T181001
CREATED:20260201T103954Z
LAST-MODIFIED:20260213T131442Z
UID:10010108-1770832800-1770834600@bayarearegistry.com
SUMMARY:Prospect Band Performance: Oakland School for the Arts
DESCRIPTION:Prospect is a genre-bending band of young musicians from Oakland School for the Arts\, blending Hip Hop\, jazz fusion\, soul\, and R&B into a sound that’s both timeless and boldly new. The band features a powerhouse lineup of young musicians\, including Grammy winners Tommy Shepherd (vocals/sax/EWI) and Kali de Jesus (vocals/sax)\, Dame Taylor (drums)\, and Kingston Melancon (violin/bass). \nInfo & Tickets
URL:https://bayarearegistry.com/event/prospect-band-performance-oakland-school-for-the-arts/
LOCATION:Oakland Public Library: Dimond Branch\, 3565 Fruitvale Ave\, Oakland\, 94602\, United States
CATEGORIES:Arts + Culture,BHM 2026,East Bay,Live Music,Oakland,Performing Arts
ATTACH;FMTTYPE=image/jpeg:https://bayarearegistry.com/wp-content/uploads/2026/02/008-1-1180x885-1-e1769942386228.jpg
END:VEVENT
BEGIN:VEVENT
DTSTART;TZID=America/Los_Angeles:20260211T160000
DTEND;TZID=America/Los_Angeles:20260211T170000
DTSTAMP:20260425T181001
CREATED:20260201T102706Z
LAST-MODIFIED:20260213T131436Z
UID:10010106-1770825600-1770829200@bayarearegistry.com
SUMMARY:Piece by Piece: Celebrating African American Contemporary Art
DESCRIPTION:Is a hands-on visual arts workshop that introduces participants to influential African American contemporary artists while encouraging creative interpretation through paper mosaic techniques. Participants will observe iconic works by selected artists and reconstruct visual elements using color\, texture\, and pattern—learning how storytelling\, identity\, and culture are embedded in contemporary art practices. \nInfo & Tickets
URL:https://bayarearegistry.com/event/piece-by-piece-celebrating-african-american-contemporary-art-2/
LOCATION:Oakland Public Library: Dimond Branch\, 3565 Fruitvale Ave\, Oakland\, 94602\, United States
CATEGORIES:Arts + Culture,BHM 2026,East Bay,Oakland,Visual Arts
ATTACH;FMTTYPE=image/jpeg:https://bayarearegistry.com/wp-content/uploads/2026/02/CompressJPEG.Online_img1281x720-1.jpg
END:VEVENT
END:VCALENDAR