BEGIN:VCALENDAR
VERSION:2.0
PRODID:-//BAR | Bay Area Registry - ECPv6.15.20//NONSGML v1.0//EN
CALSCALE:GREGORIAN
METHOD:PUBLISH
X-WR-CALNAME:BAR | Bay Area Registry
X-ORIGINAL-URL:https://bayarearegistry.com
X-WR-CALDESC:Events for BAR | Bay Area Registry
REFRESH-INTERVAL;VALUE=DURATION:PT1H
X-Robots-Tag:noindex
X-PUBLISHED-TTL:PT1H
BEGIN:VTIMEZONE
TZID:America/Los_Angeles
BEGIN:DAYLIGHT
TZOFFSETFROM:-0800
TZOFFSETTO:-0700
TZNAME:PDT
DTSTART:20250309T100000
END:DAYLIGHT
BEGIN:STANDARD
TZOFFSETFROM:-0700
TZOFFSETTO:-0800
TZNAME:PST
DTSTART:20251102T090000
END:STANDARD
BEGIN:DAYLIGHT
TZOFFSETFROM:-0800
TZOFFSETTO:-0700
TZNAME:PDT
DTSTART:20260308T100000
END:DAYLIGHT
BEGIN:STANDARD
TZOFFSETFROM:-0700
TZOFFSETTO:-0800
TZNAME:PST
DTSTART:20261101T090000
END:STANDARD
BEGIN:DAYLIGHT
TZOFFSETFROM:-0800
TZOFFSETTO:-0700
TZNAME:PDT
DTSTART:20270314T100000
END:DAYLIGHT
BEGIN:STANDARD
TZOFFSETFROM:-0700
TZOFFSETTO:-0800
TZNAME:PST
DTSTART:20271107T090000
END:STANDARD
END:VTIMEZONE
BEGIN:VEVENT
DTSTART;TZID=America/Los_Angeles:20260218T140000
DTEND;TZID=America/Los_Angeles:20260218T150000
DTSTAMP:20260419T181737
CREATED:20260201T112154Z
LAST-MODIFIED:20260219T143456Z
UID:10010113-1771423200-1771426800@bayarearegistry.com
SUMMARY:Piece by Piece: Celebrating African American Contemporary Art
DESCRIPTION:Is a hands-on visual arts workshop that introduces participants to influential African American contemporary artists while encouraging creative interpretation through paper mosaic techniques. Participants will observe iconic works by selected artists and reconstruct visual elements using color\, texture\, and pattern—learning how storytelling\, identity\, and culture are embedded in contemporary art practices. \nInfo & Tickets
URL:https://bayarearegistry.com/event/piece-by-piece-celebrating-african-american-contemporary-art-4/
LOCATION:Oakland Public Library: Montclair Branch\, 1687 Mountain Blvd\, Oakland\, 94611\, United States
CATEGORIES:Arts + Culture,BHM 2026,East Bay,Oakland,Visual Arts
ATTACH;FMTTYPE=image/jpeg:https://bayarearegistry.com/wp-content/uploads/2026/02/CompressJPEG.Online_img1281x720-1.jpg
END:VEVENT
END:VCALENDAR