BEGIN:VCALENDAR
VERSION:2.0
PRODID:-//BAR | Bay Area Registry - ECPv6.15.20//NONSGML v1.0//EN
CALSCALE:GREGORIAN
METHOD:PUBLISH
X-ORIGINAL-URL:https://bayarearegistry.com
X-WR-CALDESC:Events for BAR | Bay Area Registry
REFRESH-INTERVAL;VALUE=DURATION:PT1H
X-Robots-Tag:noindex
X-PUBLISHED-TTL:PT1H
BEGIN:VTIMEZONE
TZID:America/Los_Angeles
BEGIN:DAYLIGHT
TZOFFSETFROM:-0800
TZOFFSETTO:-0700
TZNAME:PDT
DTSTART:20250309T100000
END:DAYLIGHT
BEGIN:STANDARD
TZOFFSETFROM:-0700
TZOFFSETTO:-0800
TZNAME:PST
DTSTART:20251102T090000
END:STANDARD
BEGIN:DAYLIGHT
TZOFFSETFROM:-0800
TZOFFSETTO:-0700
TZNAME:PDT
DTSTART:20260308T100000
END:DAYLIGHT
BEGIN:STANDARD
TZOFFSETFROM:-0700
TZOFFSETTO:-0800
TZNAME:PST
DTSTART:20261101T090000
END:STANDARD
BEGIN:DAYLIGHT
TZOFFSETFROM:-0800
TZOFFSETTO:-0700
TZNAME:PDT
DTSTART:20270314T100000
END:DAYLIGHT
BEGIN:STANDARD
TZOFFSETFROM:-0700
TZOFFSETTO:-0800
TZNAME:PST
DTSTART:20271107T090000
END:STANDARD
END:VTIMEZONE
BEGIN:VEVENT
DTSTART;TZID=America/Los_Angeles:20260225T150000
DTEND;TZID=America/Los_Angeles:20260225T153000
DTSTAMP:20260425T154229
CREATED:20260201T123416Z
LAST-MODIFIED:20260227T094001Z
UID:10010126-1772031600-1772033400@bayarearegistry.com
SUMMARY:Vocal Choir Performance: Oakland School for the Arts
DESCRIPTION:Join us at the Rockridge Branch for an amazing vocal performance by Oakland School for the Arts’ students in celebration of Black History Month. \nInfo & Tickets
URL:https://bayarearegistry.com/event/vocal-choir-performance-oakland-school-for-the-arts/
LOCATION:Oakland Public Library: Rockridge Branch\, 5366 College Ave\, Oakland\, 94618\, United States
CATEGORIES:Arts + Culture,BHM 2026,East Bay,Live Music,Oakland,Performing Arts
ATTACH;FMTTYPE=image/jpeg:https://bayarearegistry.com/wp-content/uploads/2026/02/maxresdefault-1-e1769949248728.jpg
END:VEVENT
BEGIN:VEVENT
DTSTART;TZID=America/Los_Angeles:20260217T163000
DTEND;TZID=America/Los_Angeles:20260217T173000
DTSTAMP:20260425T154229
CREATED:20260201T111242Z
LAST-MODIFIED:20260219T143429Z
UID:10010111-1771345800-1771349400@bayarearegistry.com
SUMMARY:Piece by Piece: Celebrating African American Contemporary Art
DESCRIPTION:Is a hands-on visual arts workshop that introduces participants to influential African American contemporary artists while encouraging creative interpretation through paper mosaic techniques. Participants will observe iconic works by selected artists and reconstruct visual elements using color\, texture\, and pattern—learning how storytelling\, identity\, and culture are embedded in contemporary art practices. \nInfo & Tickets
URL:https://bayarearegistry.com/event/piece-by-piece-celebrating-african-american-contemporary-art-3/
LOCATION:Oakland Public Library: Rockridge Branch\, 5366 College Ave\, Oakland\, 94618\, United States
CATEGORIES:Arts + Culture,BHM 2026,East Bay,Oakland,Visual Arts
ATTACH;FMTTYPE=image/jpeg:https://bayarearegistry.com/wp-content/uploads/2026/02/CompressJPEG.Online_img1281x720-1.jpg
END:VEVENT
BEGIN:VEVENT
DTSTART;VALUE=DATE:20260206
DTEND;VALUE=DATE:20260328
DTSTAMP:20260425T154229
CREATED:20260201T100253Z
LAST-MODIFIED:20260330T142542Z
UID:10010103-1770336000-1774655999@bayarearegistry.com
SUMMARY:Art of the African Diaspora - Exhibition
DESCRIPTION:Rockridge is hosting an exhibition produced by Art Of The African Diaspora which has been organizing non-juried group shows of Black Bay Area artists\, since 1989. This satellite exhibit complements a larger show at the Richmond Art Center. \nInfo & Tickets
URL:https://bayarearegistry.com/event/art-of-the-african-diaspora-exhibition/
LOCATION:Oakland Public Library: Rockridge Branch\, 5366 College Ave\, Oakland\, 94618\, United States
CATEGORIES:Arts + Culture,BHM 2026,East Bay,Oakland,Visual Arts
ATTACH;FMTTYPE=image/jpeg:https://bayarearegistry.com/wp-content/uploads/2026/02/Art-of-the-African-Diaspora-Facebook-e1769940088778.jpg
END:VEVENT
END:VCALENDAR