BEGIN:VCALENDAR
VERSION:2.0
PRODID:-//BAR | Bay Area Registry - ECPv6.15.20//NONSGML v1.0//EN
CALSCALE:GREGORIAN
METHOD:PUBLISH
X-ORIGINAL-URL:https://bayarearegistry.com
X-WR-CALDESC:Events for BAR | Bay Area Registry
REFRESH-INTERVAL;VALUE=DURATION:PT1H
X-Robots-Tag:noindex
X-PUBLISHED-TTL:PT1H
BEGIN:VTIMEZONE
TZID:America/Los_Angeles
BEGIN:DAYLIGHT
TZOFFSETFROM:-0800
TZOFFSETTO:-0700
TZNAME:PDT
DTSTART:20250309T100000
END:DAYLIGHT
BEGIN:STANDARD
TZOFFSETFROM:-0700
TZOFFSETTO:-0800
TZNAME:PST
DTSTART:20251102T090000
END:STANDARD
BEGIN:DAYLIGHT
TZOFFSETFROM:-0800
TZOFFSETTO:-0700
TZNAME:PDT
DTSTART:20260308T100000
END:DAYLIGHT
BEGIN:STANDARD
TZOFFSETFROM:-0700
TZOFFSETTO:-0800
TZNAME:PST
DTSTART:20261101T090000
END:STANDARD
BEGIN:DAYLIGHT
TZOFFSETFROM:-0800
TZOFFSETTO:-0700
TZNAME:PDT
DTSTART:20270314T100000
END:DAYLIGHT
BEGIN:STANDARD
TZOFFSETFROM:-0700
TZOFFSETTO:-0800
TZNAME:PST
DTSTART:20271107T090000
END:STANDARD
END:VTIMEZONE
BEGIN:VEVENT
DTSTART;TZID=America/Los_Angeles:20260227T140000
DTEND;TZID=America/Los_Angeles:20260227T143000
DTSTAMP:20260419T165536
CREATED:20260201T130316Z
LAST-MODIFIED:20260302T135204Z
UID:10010134-1772200800-1772202600@bayarearegistry.com
SUMMARY:Dreamgirls: presented by Oakland School for the Arts
DESCRIPTION:Enjoy an amazing 30-minute excerpt of Oakland School for the Arts’ Dreamgirls production at the Main Library’s TeenZone in celebration of Black History Month. \nDreamgirls is coming to you live in Oakland\, led by OSA Alumni and Theatre Chair Tavia Percia. This is a show that you do not want to miss! With students across pathways participating\, they have poured their heart into this musical and we cannot wait to see the final result! \nInfo & Tickets
URL:https://bayarearegistry.com/event/dreamgirls-presented-by-oakland-school-for-the-arts/
LOCATION:Oakland Public Library\, 125 14th St\, Oakland\, CA\, 94612\, United States
CATEGORIES:Arts + Culture,BHM 2026,East Bay,Live Music,Oakland,Performing Arts
ATTACH;FMTTYPE=image/jpeg:https://bayarearegistry.com/wp-content/uploads/2026/02/Oakland_School_for_the_Arts_logo-e1769950987458.jpg
END:VEVENT
BEGIN:VEVENT
DTSTART;TZID=America/Los_Angeles:20260226T170000
DTEND;TZID=America/Los_Angeles:20260226T200000
DTSTAMP:20260419T165536
CREATED:20260201T125113Z
LAST-MODIFIED:20260302T135156Z
UID:10010132-1772125200-1772136000@bayarearegistry.com
SUMMARY:Opening Reception: Soul\, Sonics\, and Soundsystems
DESCRIPTION:A welcoming public program introducing the Exhibition and Listening Room. \nInfo & Tickets
URL:https://bayarearegistry.com/event/opening-reception-soul-sonics-and-soundsystems/
LOCATION:Oakland Public Library\, 125 14th St\, Oakland\, CA\, 94612\, United States
CATEGORIES:Arts + Culture,East Bay,Live Music,Oakland,Performing Arts
ATTACH;FMTTYPE=image/jpeg:https://bayarearegistry.com/wp-content/uploads/2026/02/Official3-1-scaled-e1769950265691.jpg
END:VEVENT
BEGIN:VEVENT
DTSTART;TZID=America/Los_Angeles:20260225T180000
DTEND;TZID=America/Los_Angeles:20260225T193000
DTSTAMP:20260419T165536
CREATED:20260201T123920Z
LAST-MODIFIED:20260227T094030Z
UID:10010128-1772042400-1772047800@bayarearegistry.com
SUMMARY:Meet the Author: Huey P.  Newton’s Family - Roots of A Revolutionary Suicide
DESCRIPTION:Judge Lise Pearlman will discuss her book Huey P. Newton’s Family: Roots of A Revolutionary Suicide. The talk aims to shed light on how the Newton family’s ancestry and interrelationships helped shape Black Panther Party co-founder Huey Newton’s thinking and life trajectory. \nInfo & Tickets
URL:https://bayarearegistry.com/event/meet-the-author-huey-p-newtons-family-roots-of-a-revolutionary-suicide/
LOCATION:Oakland Public Library\, 125 14th St\, Oakland\, CA\, 94612\, United States
CATEGORIES:Arts + Culture,BHM 2026,Community,East Bay,Oakland
ATTACH;FMTTYPE=image/jpeg:https://bayarearegistry.com/wp-content/uploads/2026/02/Revolutionary_Suicide__by_Huey_P._Newton-scaled-e1769949552924.jpg
END:VEVENT
BEGIN:VEVENT
DTSTART;TZID=America/Los_Angeles:20260225T150000
DTEND;TZID=America/Los_Angeles:20260225T170000
DTSTAMP:20260419T165536
CREATED:20260201T122928Z
LAST-MODIFIED:20260227T094007Z
UID:10010125-1772031600-1772038800@bayarearegistry.com
SUMMARY:Black History Month: Embroidered Portraits
DESCRIPTION:Celebrate Black History Month by embroidering a portrait of your favorite Black artist\, activist\, poet\, musician\, figure in history! \nInfo & Tickets
URL:https://bayarearegistry.com/event/black-history-month-embroidered-portraits/
LOCATION:Oakland Public Library\, 125 14th St\, Oakland\, CA\, 94612\, United States
CATEGORIES:Arts + Culture,BHM 2026,East Bay,Oakland,Visual Arts
ATTACH;FMTTYPE=image/jpeg:https://bayarearegistry.com/wp-content/uploads/2026/02/imgi_1_IMG_8284-scaled-e1769948957386.jpg
END:VEVENT
BEGIN:VEVENT
DTSTART;TZID=America/Los_Angeles:20260221T110000
DTEND;TZID=America/Los_Angeles:20260221T170000
DTSTAMP:20260419T165536
CREATED:20260127T150053Z
LAST-MODIFIED:20260222T213440Z
UID:10010022-1771671600-1771693200@bayarearegistry.com
SUMMARY:Black History Film Festival - Oakland
DESCRIPTION:In 2026\, the Black History Film Festival expanded to Oakland\, CA\, hosted by David Roach. The Black History Film Festival was created by Marvin Arrington Jr in Atlanta in 2008. The festival expanded to Washington\, DC in 2015 hosted by Richard Campbell and last year in Miami\, FL hosted by Jason Jones. 176 films were submitted with 9 films being screened in Oakland. \nInfo & Tickets
URL:https://bayarearegistry.com/event/black-history-film-festival-oakland/
LOCATION:Oakland Public Library\, 125 14th St\, Oakland\, CA\, 94612\, United States
CATEGORIES:Arts + Culture,BHM 2026,East Bay,Oakland,Performing Arts,Theater + Film
ATTACH;FMTTYPE=image/png:https://bayarearegistry.com/wp-content/uploads/2026/01/sd-e1769526028432.png
END:VEVENT
BEGIN:VEVENT
DTSTART;TZID=America/Los_Angeles:20260218T160000
DTEND;TZID=America/Los_Angeles:20260218T170000
DTSTAMP:20260419T165536
CREATED:20260201T112740Z
LAST-MODIFIED:20260219T143507Z
UID:10010114-1771430400-1771434000@bayarearegistry.com
SUMMARY:Teen Zine Club: Black History Month
DESCRIPTION:This is a chill space for you to get creative\, express yourself\, and hang out with new and returning zine makers. No prior knowledge or experience needed! For teens ages 13-18. \nInfo & Tickets
URL:https://bayarearegistry.com/event/teen-zine-club-black-history-month/
LOCATION:Oakland Public Library\, 125 14th St\, Oakland\, CA\, 94612\, United States
CATEGORIES:Arts + Culture,BHM 2026,East Bay,Oakland,Visual Arts
ATTACH;FMTTYPE=image/jpeg:https://bayarearegistry.com/wp-content/uploads/2026/02/Black_History_Month-e1769945251597.jpg
END:VEVENT
BEGIN:VEVENT
DTSTART;TZID=America/Los_Angeles:20260204T140000
DTEND;TZID=America/Los_Angeles:20260204T150000
DTSTAMP:20260419T165536
CREATED:20260201T100953Z
LAST-MODIFIED:20260205T173124Z
UID:10010104-1770213600-1770217200@bayarearegistry.com
SUMMARY:Piece by Piece: Celebrating African American Contemporary Art
DESCRIPTION:Is a hands-on visual arts workshop that introduces participants to influential African American contemporary artists while encouraging creative interpretation through paper mosaic techniques. Participants will observe iconic works by selected artists and reconstruct visual elements using color\, texture\, and pattern—learning how storytelling\, identity\, and culture are embedded in contemporary art practices. \nInfo & Tickets
URL:https://bayarearegistry.com/event/piece-by-piece-celebrating-african-american-contemporary-art/
LOCATION:Oakland Public Library\, 125 14th St\, Oakland\, CA\, 94612\, United States
CATEGORIES:Arts + Culture,BHM 2026,East Bay,Oakland,Visual Arts
ATTACH;FMTTYPE=image/jpeg:https://bayarearegistry.com/wp-content/uploads/2026/02/CompressJPEG.Online_img1281x720-1.jpg
END:VEVENT
END:VCALENDAR