BEGIN:VCALENDAR
VERSION:2.0
PRODID:-//BAR | Bay Area Registry - ECPv6.15.20//NONSGML v1.0//EN
CALSCALE:GREGORIAN
METHOD:PUBLISH
X-WR-CALNAME:BAR | Bay Area Registry
X-ORIGINAL-URL:https://bayarearegistry.com
X-WR-CALDESC:Events for BAR | Bay Area Registry
REFRESH-INTERVAL;VALUE=DURATION:PT1H
X-Robots-Tag:noindex
X-PUBLISHED-TTL:PT1H
BEGIN:VTIMEZONE
TZID:America/Los_Angeles
BEGIN:DAYLIGHT
TZOFFSETFROM:-0800
TZOFFSETTO:-0700
TZNAME:PDT
DTSTART:20250309T100000
END:DAYLIGHT
BEGIN:STANDARD
TZOFFSETFROM:-0700
TZOFFSETTO:-0800
TZNAME:PST
DTSTART:20251102T090000
END:STANDARD
BEGIN:DAYLIGHT
TZOFFSETFROM:-0800
TZOFFSETTO:-0700
TZNAME:PDT
DTSTART:20260308T100000
END:DAYLIGHT
BEGIN:STANDARD
TZOFFSETFROM:-0700
TZOFFSETTO:-0800
TZNAME:PST
DTSTART:20261101T090000
END:STANDARD
BEGIN:DAYLIGHT
TZOFFSETFROM:-0800
TZOFFSETTO:-0700
TZNAME:PDT
DTSTART:20270314T100000
END:DAYLIGHT
BEGIN:STANDARD
TZOFFSETFROM:-0700
TZOFFSETTO:-0800
TZNAME:PST
DTSTART:20271107T090000
END:STANDARD
END:VTIMEZONE
BEGIN:VEVENT
DTSTART;VALUE=DATE:20260220
DTEND;VALUE=DATE:20260223
DTSTAMP:20260421T100419
CREATED:20260202T135140Z
LAST-MODIFIED:20260225T203706Z
UID:10010182-1771545600-1771804799@bayarearegistry.com
SUMMARY:Lunar New Year Weekend in Calistoga
DESCRIPTION:Join us in Calistoga for an intimate five course pairing dinner featuring Kanpai Wines. We’re celebrating the year of the horse with seasonal cuisine\, curated wine pairings\, karaoke in our private lounge\, and red envelopes with surprise gifts. \nInfo & Tickets
URL:https://bayarearegistry.com/event/lunar-new-year-weekend-in-calistoga/
LOCATION:Okaeri Calistoga\, 1415 Foothill Blvd\, Calistoga\, 94515
CATEGORIES:Arts + Culture,Food + Drink,North Bay,Santa Rosa
ATTACH;FMTTYPE=image/jpeg:https://bayarearegistry.com/wp-content/uploads/2026/02/lny26porkdumplings169-e1770040279929.jpg
END:VEVENT
END:VCALENDAR