BEGIN:VCALENDAR
VERSION:2.0
PRODID:-//BAR | Bay Area Registry - ECPv6.15.20//NONSGML v1.0//EN
CALSCALE:GREGORIAN
METHOD:PUBLISH
X-ORIGINAL-URL:https://bayarearegistry.com
X-WR-CALDESC:Events for BAR | Bay Area Registry
REFRESH-INTERVAL;VALUE=DURATION:PT1H
X-Robots-Tag:noindex
X-PUBLISHED-TTL:PT1H
BEGIN:VTIMEZONE
TZID:America/Los_Angeles
BEGIN:DAYLIGHT
TZOFFSETFROM:-0800
TZOFFSETTO:-0700
TZNAME:PDT
DTSTART:20250309T100000
END:DAYLIGHT
BEGIN:STANDARD
TZOFFSETFROM:-0700
TZOFFSETTO:-0800
TZNAME:PST
DTSTART:20251102T090000
END:STANDARD
BEGIN:DAYLIGHT
TZOFFSETFROM:-0800
TZOFFSETTO:-0700
TZNAME:PDT
DTSTART:20260308T100000
END:DAYLIGHT
BEGIN:STANDARD
TZOFFSETFROM:-0700
TZOFFSETTO:-0800
TZNAME:PST
DTSTART:20261101T090000
END:STANDARD
BEGIN:DAYLIGHT
TZOFFSETFROM:-0800
TZOFFSETTO:-0700
TZNAME:PDT
DTSTART:20270314T100000
END:DAYLIGHT
BEGIN:STANDARD
TZOFFSETFROM:-0700
TZOFFSETTO:-0800
TZNAME:PST
DTSTART:20271107T090000
END:STANDARD
END:VTIMEZONE
BEGIN:VEVENT
DTSTART;VALUE=DATE:20260324
DTEND;VALUE=DATE:20260406
DTSTAMP:20260425T094538
CREATED:20260228T103947Z
LAST-MODIFIED:20260409T074723Z
UID:10010430-1774310400-1775433599@bayarearegistry.com
SUMMARY:MJ: The Musical
DESCRIPTION:Back by overwhelming demand\, the multiple Tony Award®-winning musical MJ is making a victorious return to San Francisco. \nCreated by Tony Award-winning Director/Choreographer Christopher Wheeldon and two-time Pulitzer Prize winner Lynn Nottage\, MJ goes beyond Michael Jackson’s singular moves and signature sound\, offering a rare glimpse at the making of the 1992 Dangerous World Tour. \nInfo & Tickets
URL:https://bayarearegistry.com/event/mj-the-musical/
LOCATION:Orpheum Theatre\, 1192 Market Street\, San Francisco\, CA\, 94102\, United States
CATEGORIES:Arts + Culture,Performing Arts,San Francisco + South SF Area,Theater + Film
ATTACH;FMTTYPE=image/webp:https://bayarearegistry.com/wp-content/uploads/2026/02/MJ-The-Musical-e1772275137731.webp
ORGANIZER;CN="Orpheum Theatre":MAILTO:tickets@broadwaysf.com
GEO:37.779246;-122.4145712
X-APPLE-STRUCTURED-LOCATION;VALUE=URI;X-ADDRESS=Orpheum Theatre 1192 Market Street San Francisco CA 94102 United States;X-APPLE-RADIUS=500;X-TITLE=1192 Market Street:geo:-122.4145712,37.779246
END:VEVENT
BEGIN:VEVENT
DTSTART;VALUE=DATE:20260113
DTEND;VALUE=DATE:20260202
DTSTAMP:20260425T094538
CREATED:20251013T122408Z
LAST-MODIFIED:20260202T132323Z
UID:10009492-1768262400-1769990399@bayarearegistry.com
SUMMARY:The Book of Mormon
DESCRIPTION:The New York Times calls it “the best musical of this century.” The Washington Post says\, “It is the kind of evening that restores your faith in musicals.” And Entertainment Weekly says\, “Grade A: the funniest musical of all time.” Jimmy Fallon of The Tonight Show calls it “Genius. Brilliant. Phenomenal.” It’s THE BOOK OF MORMON\, the nine-time Tony Award® winning Best Musical. \nThis outrageous musical comedy follows the adventures of a mismatched pair of missionaries\, sent halfway across the world to spread the Good Word. With standing room only productions in London\, on Broadway\, and across North America\, THE BOOK OF MORMON has truly become an international sensation. \nInfo & Tickets
URL:https://bayarearegistry.com/event/the-book-of-mormon/
LOCATION:Orpheum Theatre\, 1192 Market Street\, San Francisco\, CA\, 94102\, United States
CATEGORIES:Arts + Culture,Performing Arts,San Francisco + South SF Area,Theater + Film
ATTACH;FMTTYPE=image/jpeg:https://bayarearegistry.com/wp-content/uploads/2025/10/imgi_1_bom-daniel-boud-7-scaled-e1760358234446.jpeg
ORGANIZER;CN="BroadwaySF":MAILTO:feedback@broadwaysf.com
GEO:37.779246;-122.4145712
X-APPLE-STRUCTURED-LOCATION;VALUE=URI;X-ADDRESS=Orpheum Theatre 1192 Market Street San Francisco CA 94102 United States;X-APPLE-RADIUS=500;X-TITLE=1192 Market Street:geo:-122.4145712,37.779246
END:VEVENT
END:VCALENDAR