BEGIN:VCALENDAR
VERSION:2.0
PRODID:-//BAR | Bay Area Registry - ECPv6.15.20//NONSGML v1.0//EN
CALSCALE:GREGORIAN
METHOD:PUBLISH
X-ORIGINAL-URL:https://bayarearegistry.com
X-WR-CALDESC:Events for BAR | Bay Area Registry
REFRESH-INTERVAL;VALUE=DURATION:PT1H
X-Robots-Tag:noindex
X-PUBLISHED-TTL:PT1H
BEGIN:VTIMEZONE
TZID:America/Los_Angeles
BEGIN:DAYLIGHT
TZOFFSETFROM:-0800
TZOFFSETTO:-0700
TZNAME:PDT
DTSTART:20250309T100000
END:DAYLIGHT
BEGIN:STANDARD
TZOFFSETFROM:-0700
TZOFFSETTO:-0800
TZNAME:PST
DTSTART:20251102T090000
END:STANDARD
BEGIN:DAYLIGHT
TZOFFSETFROM:-0800
TZOFFSETTO:-0700
TZNAME:PDT
DTSTART:20260308T100000
END:DAYLIGHT
BEGIN:STANDARD
TZOFFSETFROM:-0700
TZOFFSETTO:-0800
TZNAME:PST
DTSTART:20261101T090000
END:STANDARD
BEGIN:DAYLIGHT
TZOFFSETFROM:-0800
TZOFFSETTO:-0700
TZNAME:PDT
DTSTART:20270314T100000
END:DAYLIGHT
BEGIN:STANDARD
TZOFFSETFROM:-0700
TZOFFSETTO:-0800
TZNAME:PST
DTSTART:20271107T090000
END:STANDARD
END:VTIMEZONE
BEGIN:VEVENT
DTSTART;VALUE=DATE:20260421
DTEND;VALUE=DATE:20260427
DTSTAMP:20260425T080803
CREATED:20260228T130520Z
LAST-MODIFIED:20260420T034747Z
UID:10010432-1776729600-1777247999@bayarearegistry.com
SUMMARY:Hadestown
DESCRIPTION:Winner of eight 2019 Tony Awards® including Best Musical and the 2020 Grammy® Award for Best Musical Theater Album\, this acclaimed new show from celebrated singer-songwriter Anaïs Mitchell and original director Rachel Chavkin (Natasha\, Pierre & The Great Comet of 1812) is a love story for today… and always. \nInfo & Tickets
URL:https://bayarearegistry.com/event/hadestown/
LOCATION:Orpheum Theatre\, 1192 Market Street\, San Francisco\, CA\, 94102\, United States
CATEGORIES:Arts + Culture,Performing Arts,San Francisco + South SF Area,Theater + Film
ATTACH;FMTTYPE=image/webp:https://bayarearegistry.com/wp-content/uploads/2026/02/Hadestown-e1772283892952.webp
ORGANIZER;CN="Orpheum Theatre":MAILTO:tickets@broadwaysf.com
GEO:37.779246;-122.4145712
X-APPLE-STRUCTURED-LOCATION;VALUE=URI;X-ADDRESS=Orpheum Theatre 1192 Market Street San Francisco CA 94102 United States;X-APPLE-RADIUS=500;X-TITLE=1192 Market Street:geo:-122.4145712,37.779246
END:VEVENT
BEGIN:VEVENT
DTSTART;VALUE=DATE:20260528
DTEND;VALUE=DATE:20260622
DTSTAMP:20260425T080803
CREATED:20260228T132124Z
LAST-MODIFIED:20260228T132124Z
UID:10010434-1779926400-1782086399@bayarearegistry.com
SUMMARY:The Phantom of the Opera
DESCRIPTION:A revitalized production featuring Maria Björnson’s brilliant original design\, which was rapturously received by London critics when it reopened at His Majesty’s Theatre in 2021\, will launch in a multi-year North American Tour in November 2025\, premiering at the Orpheum Theatre in San Francisco May 28–June 21\, 2026. \nInfo & Tickets
URL:https://bayarearegistry.com/event/the-phantom-of-the-opera/
LOCATION:Orpheum Theatre\, 1192 Market Street\, San Francisco\, CA\, 94102\, United States
CATEGORIES:Arts + Culture,Live Music,Performing Arts,San Francisco + South SF Area,Theater + Film
ATTACH;FMTTYPE=image/jpeg:https://bayarearegistry.com/wp-content/uploads/2026/02/The-Phantom-of-the-Opera-e1772284813852.jpg
ORGANIZER;CN="Orpheum Theatre":MAILTO:tickets@broadwaysf.com
GEO:37.779246;-122.4145712
X-APPLE-STRUCTURED-LOCATION;VALUE=URI;X-ADDRESS=Orpheum Theatre 1192 Market Street San Francisco CA 94102 United States;X-APPLE-RADIUS=500;X-TITLE=1192 Market Street:geo:-122.4145712,37.779246
END:VEVENT
END:VCALENDAR