BEGIN:VCALENDAR
VERSION:2.0
PRODID:-//BAR | Bay Area Registry - ECPv6.15.20//NONSGML v1.0//EN
CALSCALE:GREGORIAN
METHOD:PUBLISH
X-WR-CALNAME:BAR | Bay Area Registry
X-ORIGINAL-URL:https://bayarearegistry.com
X-WR-CALDESC:Events for BAR | Bay Area Registry
REFRESH-INTERVAL;VALUE=DURATION:PT1H
X-Robots-Tag:noindex
X-PUBLISHED-TTL:PT1H
BEGIN:VTIMEZONE
TZID:America/Los_Angeles
BEGIN:DAYLIGHT
TZOFFSETFROM:-0800
TZOFFSETTO:-0700
TZNAME:PDT
DTSTART:20250309T100000
END:DAYLIGHT
BEGIN:STANDARD
TZOFFSETFROM:-0700
TZOFFSETTO:-0800
TZNAME:PST
DTSTART:20251102T090000
END:STANDARD
BEGIN:DAYLIGHT
TZOFFSETFROM:-0800
TZOFFSETTO:-0700
TZNAME:PDT
DTSTART:20260308T100000
END:DAYLIGHT
BEGIN:STANDARD
TZOFFSETFROM:-0700
TZOFFSETTO:-0800
TZNAME:PST
DTSTART:20261101T090000
END:STANDARD
BEGIN:DAYLIGHT
TZOFFSETFROM:-0800
TZOFFSETTO:-0700
TZNAME:PDT
DTSTART:20270314T100000
END:DAYLIGHT
BEGIN:STANDARD
TZOFFSETFROM:-0700
TZOFFSETTO:-0800
TZNAME:PST
DTSTART:20271107T090000
END:STANDARD
END:VTIMEZONE
BEGIN:VEVENT
DTSTART;TZID=America/Los_Angeles:20260329T150000
DTEND;TZID=America/Los_Angeles:20260329T170000
DTSTAMP:20260420T014110
CREATED:20260324T074532Z
LAST-MODIFIED:20260401T065044Z
UID:10010527-1774796400-1774803600@bayarearegistry.com
SUMMARY:Hop Into Spring at the Pacific Commons Easter Celebration
DESCRIPTION:Springtime fun is in full bloom at Pacific Commons Shopping Center and families are invited to celebrate the season with a festive Easter gathering filled with classic holiday fun and playful activities. Bring the kids\, snap a photo\, and enjoy a cheerful afternoon of springtime fun. \nInfo & Tickets
URL:https://bayarearegistry.com/event/hop-into-spring-at-the-pacific-commons-easter-celebration/
LOCATION:Pacific Commons Shopping Center\, 43440 Boscell Rd\, Fremont\, 94538
CATEGORIES:Arts + Culture,East Bay,Fairs + Festivals,Food + Drink,Holidays 2026,Hwy 880 Corridor (South of Oakland to Fremont),Visual Arts
ATTACH;FMTTYPE=image/png:https://bayarearegistry.com/wp-content/uploads/2026/03/pc-e1774338293598.png
END:VEVENT
END:VCALENDAR