BEGIN:VCALENDAR
VERSION:2.0
PRODID:-//BAR | Bay Area Registry - ECPv6.15.20//NONSGML v1.0//EN
CALSCALE:GREGORIAN
METHOD:PUBLISH
X-WR-CALNAME:BAR | Bay Area Registry
X-ORIGINAL-URL:https://bayarearegistry.com
X-WR-CALDESC:Events for BAR | Bay Area Registry
REFRESH-INTERVAL;VALUE=DURATION:PT1H
X-Robots-Tag:noindex
X-PUBLISHED-TTL:PT1H
BEGIN:VTIMEZONE
TZID:America/Los_Angeles
BEGIN:DAYLIGHT
TZOFFSETFROM:-0800
TZOFFSETTO:-0700
TZNAME:PDT
DTSTART:20250309T100000
END:DAYLIGHT
BEGIN:STANDARD
TZOFFSETFROM:-0700
TZOFFSETTO:-0800
TZNAME:PST
DTSTART:20251102T090000
END:STANDARD
BEGIN:DAYLIGHT
TZOFFSETFROM:-0800
TZOFFSETTO:-0700
TZNAME:PDT
DTSTART:20260308T100000
END:DAYLIGHT
BEGIN:STANDARD
TZOFFSETFROM:-0700
TZOFFSETTO:-0800
TZNAME:PST
DTSTART:20261101T090000
END:STANDARD
BEGIN:DAYLIGHT
TZOFFSETFROM:-0800
TZOFFSETTO:-0700
TZNAME:PDT
DTSTART:20270314T100000
END:DAYLIGHT
BEGIN:STANDARD
TZOFFSETFROM:-0700
TZOFFSETTO:-0800
TZNAME:PST
DTSTART:20271107T090000
END:STANDARD
END:VTIMEZONE
BEGIN:VEVENT
DTSTART;TZID=America/Los_Angeles:20260415T200000
DTEND;TZID=America/Los_Angeles:20260415T200000
DTSTAMP:20260419T184147
CREATED:20260405T200834Z
LAST-MODIFIED:20260418T070930Z
UID:10010679-1776283200-1776283200@bayarearegistry.com
SUMMARY:Ari Lennox: The Vacancy Tour
DESCRIPTION:Join us for Ari Lennox: The Vacancy Tour at the Paramount Theatre to support her new album released in January 2026. \nThe album is described as a vulnerable\, soulful\, and honest project exploring themes of love and self-validation\, showcasing her rich vocals and paying homage to R&B legends. \nInfo & Tickets
URL:https://bayarearegistry.com/event/ari-lennox-the-vacancy-tour/
LOCATION:Paramount Theatre\, 2025 Broadway between 20th and 21st Streets\, Oakland\, CA\, United States
CATEGORIES:Arts + Culture,East Bay,Live Music,Oakland,Performing Arts
ATTACH;FMTTYPE=image/webp:https://bayarearegistry.com/wp-content/uploads/2026/04/image-1200x500-17-2c0ce87ac7-e1775419705902.webp
GEO:37.8142024;-122.2833047
X-APPLE-STRUCTURED-LOCATION;VALUE=URI;X-ADDRESS=Paramount Theatre 2025 Broadway between 20th and 21st Streets Oakland CA United States;X-APPLE-RADIUS=500;X-TITLE=2025 Broadway between 20th and 21st Streets:geo:-122.2833047,37.8142024
END:VEVENT
BEGIN:VEVENT
DTSTART;TZID=America/Los_Angeles:20260327T200000
DTEND;TZID=America/Los_Angeles:20260327T220000
DTSTAMP:20260419T184147
CREATED:20260214T131322Z
LAST-MODIFIED:20260330T142531Z
UID:10010310-1774641600-1774648800@bayarearegistry.com
SUMMARY:Hammond Organ Concerto Plus Saint-saëns Thundering Organ Symphony
DESCRIPTION:CLARICE ASSAD Baião N’ Blues \nBRIAN RAPHAEL NABORS Hammond Organ Concerto \nCAMILLE SAINT-SAËNS Symphony No. 3\, “Organ” \nInfo & Tickets
URL:https://bayarearegistry.com/event/hammond-organ-concerto-plus-saint-saens-thundering-organ-symphony/
LOCATION:Paramount Theatre\, 2025 Broadway between 20th and 21st Streets\, Oakland\, CA\, United States
CATEGORIES:Arts + Culture,East Bay,Live Music,Oakland,Performing Arts
ATTACH;FMTTYPE=image/jpeg:https://bayarearegistry.com/wp-content/uploads/2026/02/468544645_10161007216477616_4148186895364432718_n-e1771074790383.jpg
GEO:37.8142024;-122.2833047
X-APPLE-STRUCTURED-LOCATION;VALUE=URI;X-ADDRESS=Paramount Theatre 2025 Broadway between 20th and 21st Streets Oakland CA United States;X-APPLE-RADIUS=500;X-TITLE=2025 Broadway between 20th and 21st Streets:geo:-122.2833047,37.8142024
END:VEVENT
BEGIN:VEVENT
DTSTART;TZID=America/Los_Angeles:20260310T193000
DTEND;TZID=America/Los_Angeles:20260310T193000
DTSTAMP:20260419T184147
CREATED:20250511T140232Z
LAST-MODIFIED:20260313T085246Z
UID:10008109-1773171000-1773171000@bayarearegistry.com
SUMMARY:Frans Lanting and Christine Eckstrom
DESCRIPTION:Frans Lanting is a photographer\, author\, and speaker. He has documented the natural world from the Amazon to Antarctica. His work has been commissioned frequently by National Geographic\, where he served as a Photographer-in-Residence. His influential work appears in books\, magazines\, and exhibitions around the world. Frans is an ambassador for the World Wildlife Fund and has received numerous prestigious awards for his work\, including the Wildlife Photographer of the Year’s first Lifetime Achievement Award. His Royal Highness\, Prince Bernhard of the Netherlands\, inducted him as a Knight in the Royal Order of the Golden Ark for his contributions to conservation. \nInfo & Tickets
URL:https://bayarearegistry.com/event/frans-lanting-and-christine-eckstrom-2/
LOCATION:Paramount Theatre\, 2025 Broadway between 20th and 21st Streets\, Oakland\, CA\, United States
CATEGORIES:Arts + Culture,Conversations + Speakers + Conferences,East Bay,Oakland
ATTACH;FMTTYPE=image/jpeg:https://bayarearegistry.com/wp-content/uploads/2025/05/011028-02_m-scaled-e1746971954245.jpeg
GEO:37.8142024;-122.2833047
X-APPLE-STRUCTURED-LOCATION;VALUE=URI;X-ADDRESS=Paramount Theatre 2025 Broadway between 20th and 21st Streets Oakland CA United States;X-APPLE-RADIUS=500;X-TITLE=2025 Broadway between 20th and 21st Streets:geo:-122.2833047,37.8142024
END:VEVENT
BEGIN:VEVENT
DTSTART;TZID=America/Los_Angeles:20260220T200000
DTEND;TZID=America/Los_Angeles:20260220T220000
DTSTAMP:20260419T184147
CREATED:20260214T125405Z
LAST-MODIFIED:20260223T150446Z
UID:10010309-1771617600-1771624800@bayarearegistry.com
SUMMARY:To These Shores: Roumain\, Mahler\, Esmail & Chen Yi
DESCRIPTION:To These Shores brings Mahler alongside groundbreaking works by Roumain\, Esmail\, and Chen Yi — including a world premiere. \nInfo & Tickets
URL:https://bayarearegistry.com/event/to-these-shores-roumain-mahler-esmail-chen-yi/
LOCATION:Paramount Theatre\, 2025 Broadway between 20th and 21st Streets\, Oakland\, CA\, United States
CATEGORIES:Arts + Culture,East Bay,Live Music,Oakland,Performing Arts
ATTACH;FMTTYPE=image/jpeg:https://bayarearegistry.com/wp-content/uploads/2026/02/imgi_2_627055930_1461552522642408_6027778974318988660_n-e1771073778977.jpg
GEO:37.8142024;-122.2833047
X-APPLE-STRUCTURED-LOCATION;VALUE=URI;X-ADDRESS=Paramount Theatre 2025 Broadway between 20th and 21st Streets Oakland CA United States;X-APPLE-RADIUS=500;X-TITLE=2025 Broadway between 20th and 21st Streets:geo:-122.2833047,37.8142024
END:VEVENT
BEGIN:VEVENT
DTSTART;TZID=America/Los_Angeles:20260217T193000
DTEND;TZID=America/Los_Angeles:20260217T193000
DTSTAMP:20260419T184147
CREATED:20250511T134941Z
LAST-MODIFIED:20260218T081940Z
UID:10008105-1771356600-1771356600@bayarearegistry.com
SUMMARY:Ella Al-Shamahi
DESCRIPTION:Ella is a National Geographic Explorer\, palaeoanthropologist\, evolutionary biologist…and stand-up comic. Her debut book The Handshake is a Times and Sunday Times Book of the Year. She specializes in Neanderthals\, caves\, and expeditions in hostile\, disputed\, and unstable territories. She almost exclusively works in places it is hard to get insurance\, such as Iraq\, Yemen\, Nagorno-Karabakh\, and places she can’t publicly admit to. From heading up exploratory expeditions to joining cave excavations\, the conditions can be unusual—from avoiding landmines to wearing a burqa for security reasons. \nInfo & Tickets
URL:https://bayarearegistry.com/event/ella-al-shamahi/
LOCATION:Paramount Theatre\, 2025 Broadway between 20th and 21st Streets\, Oakland\, CA\, United States
CATEGORIES:Arts + Culture,Conversations + Speakers + Conferences,East Bay,Oakland
ATTACH;FMTTYPE=image/jpeg:https://bayarearegistry.com/wp-content/uploads/2025/05/Ella-Al-Shamahi_trans_NvBQzQNjv4BqpVlberWd9EgFPZtcLiMQf98oAmGZYX8Vqbq2hlobTFc-scaled-e1746971346318.jpeg
GEO:37.8142024;-122.2833047
X-APPLE-STRUCTURED-LOCATION;VALUE=URI;X-ADDRESS=Paramount Theatre 2025 Broadway between 20th and 21st Streets Oakland CA United States;X-APPLE-RADIUS=500;X-TITLE=2025 Broadway between 20th and 21st Streets:geo:-122.2833047,37.8142024
END:VEVENT
BEGIN:VEVENT
DTSTART;TZID=America/Los_Angeles:20260124T200000
DTEND;TZID=America/Los_Angeles:20260124T200000
DTSTAMP:20260419T184147
CREATED:20251201T145755Z
LAST-MODIFIED:20260128T023025Z
UID:10009887-1769284800-1769284800@bayarearegistry.com
SUMMARY:112 - Room 112 Tour
DESCRIPTION:Join 112 to celebrate their 30th anniversary with Total and Case. \nInfo & Tickets
URL:https://bayarearegistry.com/event/112-room-112-tour/
LOCATION:Paramount Theatre\, 2025 Broadway between 20th and 21st Streets\, Oakland\, CA\, United States
CATEGORIES:Arts + Culture,East Bay,Live Music,Oakland,Performing Arts
ATTACH;FMTTYPE=image/jpeg:https://bayarearegistry.com/wp-content/uploads/2025/12/imgi_2_Static_FacebookPR_1200x500_112_2025_Regional_ParamountTheatreOakland_0124-4d726b057e-e1764601040828.jpg
GEO:37.8142024;-122.2833047
X-APPLE-STRUCTURED-LOCATION;VALUE=URI;X-ADDRESS=Paramount Theatre 2025 Broadway between 20th and 21st Streets Oakland CA United States;X-APPLE-RADIUS=500;X-TITLE=2025 Broadway between 20th and 21st Streets:geo:-122.2833047,37.8142024
END:VEVENT
END:VCALENDAR