BEGIN:VCALENDAR
VERSION:2.0
PRODID:-//BAR | Bay Area Registry - ECPv6.15.20//NONSGML v1.0//EN
CALSCALE:GREGORIAN
METHOD:PUBLISH
X-WR-CALNAME:BAR | Bay Area Registry
X-ORIGINAL-URL:https://bayarearegistry.com
X-WR-CALDESC:Events for BAR | Bay Area Registry
REFRESH-INTERVAL;VALUE=DURATION:PT1H
X-Robots-Tag:noindex
X-PUBLISHED-TTL:PT1H
BEGIN:VTIMEZONE
TZID:America/Los_Angeles
BEGIN:DAYLIGHT
TZOFFSETFROM:-0800
TZOFFSETTO:-0700
TZNAME:PDT
DTSTART:20250309T100000
END:DAYLIGHT
BEGIN:STANDARD
TZOFFSETFROM:-0700
TZOFFSETTO:-0800
TZNAME:PST
DTSTART:20251102T090000
END:STANDARD
BEGIN:DAYLIGHT
TZOFFSETFROM:-0800
TZOFFSETTO:-0700
TZNAME:PDT
DTSTART:20260308T100000
END:DAYLIGHT
BEGIN:STANDARD
TZOFFSETFROM:-0700
TZOFFSETTO:-0800
TZNAME:PST
DTSTART:20261101T090000
END:STANDARD
BEGIN:DAYLIGHT
TZOFFSETFROM:-0800
TZOFFSETTO:-0700
TZNAME:PDT
DTSTART:20270314T100000
END:DAYLIGHT
BEGIN:STANDARD
TZOFFSETFROM:-0700
TZOFFSETTO:-0800
TZNAME:PST
DTSTART:20271107T090000
END:STANDARD
END:VTIMEZONE
BEGIN:VEVENT
DTSTART;TZID=America/Los_Angeles:20260215T140000
DTEND;TZID=America/Los_Angeles:20260215T140000
DTSTAMP:20260419T181625
CREATED:20260202T133532Z
LAST-MODIFIED:20260216T141517Z
UID:10010178-1771164000-1771164000@bayarearegistry.com
SUMMARY:Paula West
DESCRIPTION:The Bay Area’s jazz treasured vocalist Paula West will help celebrate Valentine’s Day weekend with a matinee performance featuring her trademark interpretations of songs from the Great American Songbook and beyond.  She is known for her rich\, smooth sound and knowing way with lyrics. As the San Francisco Chronicle once noted\, “West makes heartache sound so good.”  West is a mainstay on the Bay Area scene and appears regularly in New York to sold-out audiences at Lincoln Center and the Oak Room at the Carlyle Hotel. \nInfo & Tickets
URL:https://bayarearegistry.com/event/paula-west/
LOCATION:​Presidio Theatre\, 99 Moraga Avenue\, San Francisco\, 94129
CATEGORIES:Arts + Culture,BHM 2026,Live Music,Performing Arts,San Francisco + South SF Area
ATTACH;FMTTYPE=image/jpeg:https://bayarearegistry.com/wp-content/uploads/2026/02/imgi_1_a4b637042249e88306c364328aec017bc60b91fe-e1770039323127.jpeg
END:VEVENT
END:VCALENDAR