BEGIN:VCALENDAR
VERSION:2.0
PRODID:-//BAR | Bay Area Registry - ECPv6.15.20//NONSGML v1.0//EN
CALSCALE:GREGORIAN
METHOD:PUBLISH
X-ORIGINAL-URL:https://bayarearegistry.com
X-WR-CALDESC:Events for BAR | Bay Area Registry
REFRESH-INTERVAL;VALUE=DURATION:PT1H
X-Robots-Tag:noindex
X-PUBLISHED-TTL:PT1H
BEGIN:VTIMEZONE
TZID:America/Los_Angeles
BEGIN:DAYLIGHT
TZOFFSETFROM:-0800
TZOFFSETTO:-0700
TZNAME:PDT
DTSTART:20250309T100000
END:DAYLIGHT
BEGIN:STANDARD
TZOFFSETFROM:-0700
TZOFFSETTO:-0800
TZNAME:PST
DTSTART:20251102T090000
END:STANDARD
BEGIN:DAYLIGHT
TZOFFSETFROM:-0800
TZOFFSETTO:-0700
TZNAME:PDT
DTSTART:20260308T100000
END:DAYLIGHT
BEGIN:STANDARD
TZOFFSETFROM:-0700
TZOFFSETTO:-0800
TZNAME:PST
DTSTART:20261101T090000
END:STANDARD
BEGIN:DAYLIGHT
TZOFFSETFROM:-0800
TZOFFSETTO:-0700
TZNAME:PDT
DTSTART:20270314T100000
END:DAYLIGHT
BEGIN:STANDARD
TZOFFSETFROM:-0700
TZOFFSETTO:-0800
TZNAME:PST
DTSTART:20271107T090000
END:STANDARD
END:VTIMEZONE
BEGIN:VEVENT
DTSTART;TZID=America/Los_Angeles:20260425T190000
DTEND;TZID=America/Los_Angeles:20260425T190000
DTSTAMP:20260421T025707
CREATED:20260409T072445Z
LAST-MODIFIED:20260420T034747Z
UID:10010691-1777143600-1777143600@bayarearegistry.com
SUMMARY:Roger Glenn Latin Jazz Ensemble
DESCRIPTION:A master multi-instrumentalist\, composer\, and bandleader\, Roger Glenn is renowned for his command of more than 18 instruments\, including vibraphone\, flute\, and saxophone. Born in Manhattan and raised in a rich musical legacy—his father\, Tyree Glenn\, performed with jazz legends such as Cab Calloway\, Duke Ellington\, and Louis Armstrong—Roger has carried that lineage forward with his own unmistakable voice. \nInfo & Tickets
URL:https://bayarearegistry.com/event/roger-glenn-latin-jazz-ensemble/
LOCATION:Red Men’s Hall\, 431 Georgia St\,\, Vallejo\, 94590
CATEGORIES:Arts + Culture,Hwy 80 Corridor (North of Berkeley to Vallejo incl Richmond),Live Music,Performing Arts
ATTACH;FMTTYPE=image/png:https://bayarearegistry.com/wp-content/uploads/2026/04/Roger-Glenn-Latin-Jazz-Ensemble-e1775719444142.png
END:VEVENT
END:VCALENDAR