BEGIN:VCALENDAR
VERSION:2.0
PRODID:-//BAR | Bay Area Registry - ECPv6.15.20//NONSGML v1.0//EN
CALSCALE:GREGORIAN
METHOD:PUBLISH
X-ORIGINAL-URL:https://bayarearegistry.com
X-WR-CALDESC:Events for BAR | Bay Area Registry
REFRESH-INTERVAL;VALUE=DURATION:PT1H
X-Robots-Tag:noindex
X-PUBLISHED-TTL:PT1H
BEGIN:VTIMEZONE
TZID:America/Los_Angeles
BEGIN:DAYLIGHT
TZOFFSETFROM:-0800
TZOFFSETTO:-0700
TZNAME:PDT
DTSTART:20250309T100000
END:DAYLIGHT
BEGIN:STANDARD
TZOFFSETFROM:-0700
TZOFFSETTO:-0800
TZNAME:PST
DTSTART:20251102T090000
END:STANDARD
BEGIN:DAYLIGHT
TZOFFSETFROM:-0800
TZOFFSETTO:-0700
TZNAME:PDT
DTSTART:20260308T100000
END:DAYLIGHT
BEGIN:STANDARD
TZOFFSETFROM:-0700
TZOFFSETTO:-0800
TZNAME:PST
DTSTART:20261101T090000
END:STANDARD
BEGIN:DAYLIGHT
TZOFFSETFROM:-0800
TZOFFSETTO:-0700
TZNAME:PDT
DTSTART:20270314T100000
END:DAYLIGHT
BEGIN:STANDARD
TZOFFSETFROM:-0700
TZOFFSETTO:-0800
TZNAME:PST
DTSTART:20271107T090000
END:STANDARD
END:VTIMEZONE
BEGIN:VEVENT
DTSTART;TZID=America/Los_Angeles:20260311T193000
DTEND;TZID=America/Los_Angeles:20260311T193000
DTSTAMP:20260419T194031
CREATED:20250511T140017Z
LAST-MODIFIED:20260313T085255Z
UID:10008108-1773257400-1773257400@bayarearegistry.com
SUMMARY:Frans Lanting and Christine Eckstrom
DESCRIPTION:Frans Lanting is a photographer\, author\, and speaker. He has documented the natural world from the Amazon to Antarctica. His work has been commissioned frequently by National Geographic\, where he served as a Photographer-in-Residence. His influential work appears in books\, magazines\, and exhibitions around the world. Frans is an ambassador for the World Wildlife Fund and has received numerous prestigious awards for his work\, including the Wildlife Photographer of the Year’s first Lifetime Achievement Award. His Royal Highness\, Prince Bernhard of the Netherlands\, inducted him as a Knight in the Royal Order of the Golden Ark for his contributions to conservation. \nInfo & Tickets
URL:https://bayarearegistry.com/event/frans-lanting-and-christine-eckstrom/
LOCATION:San Mateo Performing Arts Center\, 600 N Delaware St\, San Mateo\, 94401
CATEGORIES:Arts + Culture,Conversations + Speakers + Conferences,Peninsula (Millbrae & south to Palo Alto, incl HMB & Coast)
ATTACH;FMTTYPE=image/jpeg:https://bayarearegistry.com/wp-content/uploads/2025/05/011028-02_m-scaled-e1746971954245.jpeg
END:VEVENT
BEGIN:VEVENT
DTSTART;TZID=America/Los_Angeles:20260218T193000
DTEND;TZID=America/Los_Angeles:20260218T193000
DTSTAMP:20260419T194031
CREATED:20250511T135517Z
LAST-MODIFIED:20260220T155716Z
UID:10008107-1771443000-1771443000@bayarearegistry.com
SUMMARY:Ella Al-Shamahi
DESCRIPTION:Ella is a National Geographic Explorer\, palaeoanthropologist\, evolutionary biologist…and stand-up comic. Her debut book The Handshake is a Times and Sunday Times Book of the Year. She specializes in Neanderthals\, caves\, and expeditions in hostile\, disputed\, and unstable territories. She almost exclusively works in places it is hard to get insurance\, such as Iraq\, Yemen\, Nagorno-Karabakh\, and places she can’t publicly admit to. From heading up exploratory expeditions to joining cave excavations\, the conditions can be unusual—from avoiding landmines to wearing a burqa for security reasons. \nInfo & Tickets
URL:https://bayarearegistry.com/event/ella-al-shamahi-3/
LOCATION:San Mateo Performing Arts Center\, 600 N Delaware St\, San Mateo\, 94401
CATEGORIES:Arts + Culture,Conversations + Speakers + Conferences,Peninsula (Millbrae & south to Palo Alto, incl HMB & Coast)
ATTACH;FMTTYPE=image/jpeg:https://bayarearegistry.com/wp-content/uploads/2025/05/Ella-Al-Shamahi_trans_NvBQzQNjv4BqpVlberWd9EgFPZtcLiMQf98oAmGZYX8Vqbq2hlobTFc-scaled-e1746971346318.jpeg
END:VEVENT
END:VCALENDAR