BEGIN:VCALENDAR
VERSION:2.0
PRODID:-//BAR | Bay Area Registry - ECPv6.15.20//NONSGML v1.0//EN
CALSCALE:GREGORIAN
METHOD:PUBLISH
X-WR-CALNAME:BAR | Bay Area Registry
X-ORIGINAL-URL:https://bayarearegistry.com
X-WR-CALDESC:Events for BAR | Bay Area Registry
REFRESH-INTERVAL;VALUE=DURATION:PT1H
X-Robots-Tag:noindex
X-PUBLISHED-TTL:PT1H
BEGIN:VTIMEZONE
TZID:America/Los_Angeles
BEGIN:DAYLIGHT
TZOFFSETFROM:-0800
TZOFFSETTO:-0700
TZNAME:PDT
DTSTART:20240310T100000
END:DAYLIGHT
BEGIN:STANDARD
TZOFFSETFROM:-0700
TZOFFSETTO:-0800
TZNAME:PST
DTSTART:20241103T090000
END:STANDARD
BEGIN:DAYLIGHT
TZOFFSETFROM:-0800
TZOFFSETTO:-0700
TZNAME:PDT
DTSTART:20250309T100000
END:DAYLIGHT
BEGIN:STANDARD
TZOFFSETFROM:-0700
TZOFFSETTO:-0800
TZNAME:PST
DTSTART:20251102T090000
END:STANDARD
BEGIN:DAYLIGHT
TZOFFSETFROM:-0800
TZOFFSETTO:-0700
TZNAME:PDT
DTSTART:20260308T100000
END:DAYLIGHT
BEGIN:STANDARD
TZOFFSETFROM:-0700
TZOFFSETTO:-0800
TZNAME:PST
DTSTART:20261101T090000
END:STANDARD
BEGIN:DAYLIGHT
TZOFFSETFROM:-0800
TZOFFSETTO:-0700
TZNAME:PDT
DTSTART:20270314T100000
END:DAYLIGHT
BEGIN:STANDARD
TZOFFSETFROM:-0700
TZOFFSETTO:-0800
TZNAME:PST
DTSTART:20271107T090000
END:STANDARD
END:VTIMEZONE
BEGIN:VEVENT
DTSTART;TZID=America/Los_Angeles:20260417T180000
DTEND;TZID=America/Los_Angeles:20260417T210000
DTSTAMP:20260421T014420
CREATED:20260405T201303Z
LAST-MODIFIED:20260418T071052Z
UID:10010680-1776448800-1776459600@bayarearegistry.com
SUMMARY:Member Night — Reimagined: The Fisher Collection at 10
DESCRIPTION:The evening begins with a talk in the Phyllis Wattis Theater featuring Gamynne Guillotte\, chief education and public engagement officer\, and Ted Mann\, project assistant curator of the Fisher Collection. They’ll share behind-the-scenes insights into the curatorial process and what makes each floor distinct. Guides will be on hand in the galleries throughout the evening to answer questions and spark conversation. \nMembers can also enjoy a cash bar in Schwab Hall\, food for purchase at Jane on Third\, and after-hours shopping at the Museum Store\, where members can enjoy a one-night-only 20% discount. For this event\, standard guest limits are waived — members are welcome to bring as many guests as they like. \nInfo & Tickets
URL:https://bayarearegistry.com/event/member-night-reimagined-the-fisher-collection-at-10/
LOCATION:SFMOMA\, 151 Third Street\, San Francisco\, CA\, 94103\, United States
CATEGORIES:Arts + Culture,Conversations + Speakers + Conferences,San Francisco + South SF Area,Visual Arts
ATTACH;FMTTYPE=image/jpeg:https://bayarearegistry.com/wp-content/uploads/2026/04/MemberParty2025Jacobs_111425_244-PowerPoint-or-email-JPEG_1024-pixels-long-e1775419969444.jpg
GEO:37.7859072;-122.4008003
X-APPLE-STRUCTURED-LOCATION;VALUE=URI;X-ADDRESS=SFMOMA 151 Third Street San Francisco CA 94103 United States;X-APPLE-RADIUS=500;X-TITLE=151 Third Street:geo:-122.4008003,37.7859072
END:VEVENT
BEGIN:VEVENT
DTSTART;TZID=America/Los_Angeles:20260220T100000
DTEND;TZID=America/Los_Angeles:20260220T210000
DTSTAMP:20260421T014420
CREATED:20260130T180148Z
LAST-MODIFIED:20260223T150427Z
UID:10010084-1771581600-1771621200@bayarearegistry.com
SUMMARY:Culture for Community: Free Day
DESCRIPTION:SFMOMA is opening the museum free of charge all day on Thursday\, February 20\, and participating in the Culture for Community initiative — a coalition of more than a dozen Yerba Buena neighborhood arts and cultural institutions offering a community day of free admission. Enjoy exhibitions\, activities\, and events at participating organizations uniting on this day and celebrating Black History Month. \nInfo & Tickets
URL:https://bayarearegistry.com/event/culture-for-community-free-day/
LOCATION:SFMOMA\, 151 Third Street\, San Francisco\, CA\, 94103\, United States
CATEGORIES:Arts + Culture,BHM 2026,San Francisco + South SF Area,Visual Arts
ATTACH;FMTTYPE=image/jpeg:https://bayarearegistry.com/wp-content/uploads/2026/01/imgi_32_SFMOMA-Culture-For-Community_Adam-Jacobs-Photography-1000px-e1769796098588.jpeg
GEO:37.7859072;-122.4008003
X-APPLE-STRUCTURED-LOCATION;VALUE=URI;X-ADDRESS=SFMOMA 151 Third Street San Francisco CA 94103 United States;X-APPLE-RADIUS=500;X-TITLE=151 Third Street:geo:-122.4008003,37.7859072
END:VEVENT
BEGIN:VEVENT
DTSTART;TZID=America/Los_Angeles:20260205T170000
DTEND;TZID=America/Los_Angeles:20260205T200000
DTSTAMP:20260421T014421
CREATED:20260129T153354Z
LAST-MODIFIED:20260207T080450Z
UID:10010042-1770310800-1770321600@bayarearegistry.com
SUMMARY:Building Universes
DESCRIPTION:Suzanne Jackson: What Is Love at SFMOMA illuminates the cosmos that one artist can create through a singular visionary practice\, while UNBOUND: Art\, Blackness & the Universe at the Museum of the African Diaspora (MoAD) reveals what becomes possible when artists from across the African Diaspora build cosmologies together where ideas spark ideas and worlds unfold in conversation. \nInfo & Tickets
URL:https://bayarearegistry.com/event/building-universes/
LOCATION:SFMOMA\, 151 Third Street\, San Francisco\, CA\, 94103\, United States
CATEGORIES:Arts + Culture,Dance,Performing Arts,Poetry + Spoken Word,San Francisco + South SF Area,Visual Arts
ATTACH;FMTTYPE=image/png:https://bayarearegistry.com/wp-content/uploads/2026/01/imgi_1_MoAD_event_693ca8aa873e2577a2a80ae4_Your-paragraph-text-2-1024x1024-1-e1769700826231.png
GEO:37.7859072;-122.4008003
X-APPLE-STRUCTURED-LOCATION;VALUE=URI;X-ADDRESS=SFMOMA 151 Third Street San Francisco CA 94103 United States;X-APPLE-RADIUS=500;X-TITLE=151 Third Street:geo:-122.4008003,37.7859072
END:VEVENT
BEGIN:VEVENT
DTSTART;TZID=America/Los_Angeles:20260205T170000
DTEND;TZID=America/Los_Angeles:20260205T200000
DTSTAMP:20260421T014421
CREATED:20260120T164729Z
LAST-MODIFIED:20260207T080454Z
UID:10009949-1770310800-1770321600@bayarearegistry.com
SUMMARY:MoAD & SFMOMA present Building Universes
DESCRIPTION:Building Universes – Two exhibitions\, two ways of imagining the world anew. \nSuzanne Jackson: What Is Love\, illuminates the cosmos one artist can create through a singular\, visionary practice\, while UNBOUND: Art\, Blackness & the Universe reveals what becomes possible when artists from across the African Diaspora build cosmologies together—ideas sparking ideas\, worlds unfolding in conversation. \nInfo & Tickets
URL:https://bayarearegistry.com/event/moad-sfmoma-present-building-universes/
LOCATION:MoAD | Museum of the African Diaspora\, 685 Mission Street\, San Francisco\, CA\, 94105\, United States
CATEGORIES:Arts + Culture,Dance,Performing Arts,Poetry + Spoken Word,San Francisco + South SF Area,Visual Arts
ATTACH;FMTTYPE=image/png:https://bayarearegistry.com/wp-content/uploads/2026/01/693ca8aa873e2577a2a80ae4_Your-paragraph-text-2-e1768927636211.png
GEO:37.786528;-122.4014628
X-APPLE-STRUCTURED-LOCATION;VALUE=URI;X-ADDRESS=MoAD | Museum of the African Diaspora 685 Mission Street San Francisco CA 94105 United States;X-APPLE-RADIUS=500;X-TITLE=685 Mission Street:geo:-122.4014628,37.786528
END:VEVENT
BEGIN:VEVENT
DTSTART;TZID=America/Los_Angeles:20260125T100000
DTEND;TZID=America/Los_Angeles:20260125T130000
DTSTAMP:20260421T014421
CREATED:20260121T083426Z
LAST-MODIFIED:20260128T023035Z
UID:10009982-1769335200-1769346000@bayarearegistry.com
SUMMARY:Family Studio: Watercolors!
DESCRIPTION:Enjoy hands-on art making and creative exploration for the whole family! We believe in the joy of making\, so come ready to relax\, experiment\, and enjoy yourself. \nEvery Family Studio includes the following free activities: \n\nDrop-in art-making\nBook raffle\nSpace to play with blocks\nChildren’s books to browse and read\n\nInfo & Tickets
URL:https://bayarearegistry.com/event/family-studio-watercolors/
LOCATION:SFMOMA\, 151 Third Street\, San Francisco\, CA\, 94103\, United States
CATEGORIES:Arts + Culture,Community,San Francisco + South SF Area,Visual Arts
ATTACH;FMTTYPE=image/png:https://bayarearegistry.com/wp-content/uploads/2026/01/image2-e1768984457837.png
GEO:37.7859072;-122.4008003
X-APPLE-STRUCTURED-LOCATION;VALUE=URI;X-ADDRESS=SFMOMA 151 Third Street San Francisco CA 94103 United States;X-APPLE-RADIUS=500;X-TITLE=151 Third Street:geo:-122.4008003,37.7859072
END:VEVENT
BEGIN:VEVENT
DTSTART;VALUE=DATE:20251122
DTEND;VALUE=DATE:20260420
DTSTAMP:20260421T014421
CREATED:20250822T142216Z
LAST-MODIFIED:20251022T183233Z
UID:10008918-1763769600-1776643199@bayarearegistry.com
SUMMARY:Alejandro Cartagena: Ground Rules
DESCRIPTION:Alejandro Cartagena: Ground Rules is the first major retrospective of the acclaimed photographer\, bringing together over two decades of his work through an expansive multi-series presentation. Born in the Dominican Republic and based in Monterrey\, Mexico\, Cartagena explores pressing social and environmental issues through a striking range of photographic practices that includes documentary images\, collage\, appropriated vernacular photographs\, and AI-generated video. \nInfo & Tickets
URL:https://bayarearegistry.com/event/alejandro-cartagena-ground-rules/
LOCATION:SFMOMA\, 151 Third Street\, San Francisco\, CA\, 94103\, United States
CATEGORIES:Arts + Culture,San Francisco + South SF Area,Visual Arts
ATTACH;FMTTYPE=image/jpeg:https://bayarearegistry.com/wp-content/uploads/2025/08/imgi_21_Fragmented-Cities-Juarez-_2-from-the-series-Suburbia-Mexicana_header-scaled-e1755872528857.jpg
GEO:37.7859072;-122.4008003
X-APPLE-STRUCTURED-LOCATION;VALUE=URI;X-ADDRESS=SFMOMA 151 Third Street San Francisco CA 94103 United States;X-APPLE-RADIUS=500;X-TITLE=151 Third Street:geo:-122.4008003,37.7859072
END:VEVENT
BEGIN:VEVENT
DTSTART;VALUE=DATE:20250927
DTEND;VALUE=DATE:20260302
DTSTAMP:20260421T014421
CREATED:20250822T141229Z
LAST-MODIFIED:20260302T135448Z
UID:10008916-1758931200-1772409599@bayarearegistry.com
SUMMARY:Suzanne Jackson: What Is Love
DESCRIPTION:For over six decades\, Suzanne Jackson has created lyrical\, awe-inspiring paintings influenced by her deep respect for the natural world and continual belief in the connection between all living things. Jackson’s life has been driven by a search for creative freedom and a bohemian spirit indebted to the San Francisco ethos of the 1950s and 1960s in which she was raised. Suzanne Jackson: What Is Love — the first retrospective devoted to the full breadth of her career — celebrates her groundbreaking artistic vision through more than 80 paintings and drawings from the 1960s to the present that emphasize her innovative use of color\, light\, and structure to expand the parameters of painting and illuminate beauty\, peace\, and love. \nInfo & Tickets
URL:https://bayarearegistry.com/event/suzanne-jackson-what-is-love/
LOCATION:SFMOMA\, 151 Third Street\, San Francisco\, CA\, 94103\, United States
CATEGORIES:Arts + Culture,Painting,San Francisco + South SF Area,Visual Arts
ATTACH;FMTTYPE=image/jpeg:https://bayarearegistry.com/wp-content/uploads/2025/08/imgi_28_Suzanne-Jackson_1975-Studio-portrait_Photo-Barbara-DuMetz-and-Bill-Wood_Barbara-DuMetz-scaled-1-scaled-e1755871925611.jpg
GEO:37.7859072;-122.4008003
X-APPLE-STRUCTURED-LOCATION;VALUE=URI;X-ADDRESS=SFMOMA 151 Third Street San Francisco CA 94103 United States;X-APPLE-RADIUS=500;X-TITLE=151 Third Street:geo:-122.4008003,37.7859072
END:VEVENT
BEGIN:VEVENT
DTSTART;VALUE=DATE:20250823
DTEND;VALUE=DATE:20260402
DTSTAMP:20260421T014421
CREATED:20250822T140552Z
LAST-MODIFIED:20260402T141447Z
UID:10008915-1755907200-1775087999@bayarearegistry.com
SUMMARY:Paul Klee + Ray Johnson: Typofacture
DESCRIPTION:Writing functions not only as language\, but also as a visual and even tactile form. Famed artist and educator Josef Albers imparted this idea to his students at Black Mountain College\, a former liberal arts school in North Carolina\, where artist Ray Johnson studied from 1945 to 1948. In an exercise called “typofacture\,” Albers asked students in his design course to create drawings mimicking printed or handwritten text. After observing textures on surfaces — like speckles on a wall or patterns in a raked garden path — they applied the concept to printed text\, which bears the imprint of its production\, whether by hand or machine. \nInfo & Tickets
URL:https://bayarearegistry.com/event/paul-klee-ray-johnson-typofacture/
LOCATION:SFMOMA\, 151 Third Street\, San Francisco\, CA\, 94103\, United States
CATEGORIES:Arts + Culture,San Francisco + South SF Area,Visual Arts
ATTACH;FMTTYPE=image/jpeg:https://bayarearegistry.com/wp-content/uploads/2025/08/imgi_20_Paul_Klee_Lantern_T1995.459_01_H02-Artsy-JPEG_header-scaled-1-scaled-e1755871544104.jpg
GEO:37.7859072;-122.4008003
X-APPLE-STRUCTURED-LOCATION;VALUE=URI;X-ADDRESS=SFMOMA 151 Third Street San Francisco CA 94103 United States;X-APPLE-RADIUS=500;X-TITLE=151 Third Street:geo:-122.4008003,37.7859072
END:VEVENT
END:VCALENDAR