BEGIN:VCALENDAR
VERSION:2.0
PRODID:-//BAR | Bay Area Registry - ECPv6.15.20//NONSGML v1.0//EN
CALSCALE:GREGORIAN
METHOD:PUBLISH
X-WR-CALNAME:BAR | Bay Area Registry
X-ORIGINAL-URL:https://bayarearegistry.com
X-WR-CALDESC:Events for BAR | Bay Area Registry
REFRESH-INTERVAL;VALUE=DURATION:PT1H
X-Robots-Tag:noindex
X-PUBLISHED-TTL:PT1H
BEGIN:VTIMEZONE
TZID:America/Los_Angeles
BEGIN:DAYLIGHT
TZOFFSETFROM:-0800
TZOFFSETTO:-0700
TZNAME:PDT
DTSTART:20250309T100000
END:DAYLIGHT
BEGIN:STANDARD
TZOFFSETFROM:-0700
TZOFFSETTO:-0800
TZNAME:PST
DTSTART:20251102T090000
END:STANDARD
BEGIN:DAYLIGHT
TZOFFSETFROM:-0800
TZOFFSETTO:-0700
TZNAME:PDT
DTSTART:20260308T100000
END:DAYLIGHT
BEGIN:STANDARD
TZOFFSETFROM:-0700
TZOFFSETTO:-0800
TZNAME:PST
DTSTART:20261101T090000
END:STANDARD
BEGIN:DAYLIGHT
TZOFFSETFROM:-0800
TZOFFSETTO:-0700
TZNAME:PDT
DTSTART:20270314T100000
END:DAYLIGHT
BEGIN:STANDARD
TZOFFSETFROM:-0700
TZOFFSETTO:-0800
TZNAME:PST
DTSTART:20271107T090000
END:STANDARD
END:VTIMEZONE
BEGIN:VEVENT
DTSTART;VALUE=DATE:20260117
DTEND;VALUE=DATE:20260223
DTSTAMP:20260421T231618
CREATED:20251201T153128Z
LAST-MODIFIED:20260223T150745Z
UID:10009891-1768608000-1771804799@bayarearegistry.com
SUMMARY:Marga Gomez’s Spanish Stew
DESCRIPTION:Spanish Stew is very funny but not stand-up comedy. The storytelling is set in 1976 and more about passion\, freedom and family than mere nostalgia. After being outed by her flamboyant mother\, young Marga\, like a Latina Patty Hearst\, escapes her New York home for 1976 San Francisco. When a survival restaurant job requires her to recreate a treasured family recipe\, Marga’s Spanish Stew unites her with both her family of origin and her chosen San Francisco family of Queer\, punk and avant-garde. Spanish Stew’s first work-in-progress performance was in August 2024 at The Marsh’s “In Front of Your Eyes Festival.” Its 2025 “World Premiere” took place at New Conservatory Theater\, San Francisco. \nInfo & Tickets
URL:https://bayarearegistry.com/event/marga-gomezs-spanish-stew/
LOCATION:The Marsh Berkeley Arts Center\, 2120 Allston Way\, Berkeley\, CA\, 94704\, United States
CATEGORIES:Arts + Culture,Berkeley,East Bay,Performing Arts,Theater + Film
ATTACH;FMTTYPE=image/jpeg:https://bayarearegistry.com/wp-content/uploads/2025/12/SpanishStewphoto-by-LOIS-TEMA-1920x1371-1-e1764603076777.jpg
ORGANIZER;CN="The Marsh":MAILTO:marsh@themarsh.org
GEO:37.8694196;-122.2670561
X-APPLE-STRUCTURED-LOCATION;VALUE=URI;X-ADDRESS=The Marsh Berkeley Arts Center 2120 Allston Way Berkeley CA 94704 United States;X-APPLE-RADIUS=500;X-TITLE=2120 Allston Way:geo:-122.2670561,37.8694196
END:VEVENT
END:VCALENDAR