BEGIN:VCALENDAR
VERSION:2.0
PRODID:-//BAR | Bay Area Registry - ECPv6.15.20//NONSGML v1.0//EN
CALSCALE:GREGORIAN
METHOD:PUBLISH
X-ORIGINAL-URL:https://bayarearegistry.com
X-WR-CALDESC:Events for BAR | Bay Area Registry
REFRESH-INTERVAL;VALUE=DURATION:PT1H
X-Robots-Tag:noindex
X-PUBLISHED-TTL:PT1H
BEGIN:VTIMEZONE
TZID:America/Los_Angeles
BEGIN:DAYLIGHT
TZOFFSETFROM:-0800
TZOFFSETTO:-0700
TZNAME:PDT
DTSTART:20250309T100000
END:DAYLIGHT
BEGIN:STANDARD
TZOFFSETFROM:-0700
TZOFFSETTO:-0800
TZNAME:PST
DTSTART:20251102T090000
END:STANDARD
BEGIN:DAYLIGHT
TZOFFSETFROM:-0800
TZOFFSETTO:-0700
TZNAME:PDT
DTSTART:20260308T100000
END:DAYLIGHT
BEGIN:STANDARD
TZOFFSETFROM:-0700
TZOFFSETTO:-0800
TZNAME:PST
DTSTART:20261101T090000
END:STANDARD
BEGIN:DAYLIGHT
TZOFFSETFROM:-0800
TZOFFSETTO:-0700
TZNAME:PDT
DTSTART:20270314T100000
END:DAYLIGHT
BEGIN:STANDARD
TZOFFSETFROM:-0700
TZOFFSETTO:-0800
TZNAME:PST
DTSTART:20271107T090000
END:STANDARD
END:VTIMEZONE
BEGIN:VEVENT
DTSTART;TZID=America/Los_Angeles:20260415T093000
DTEND;TZID=America/Los_Angeles:20260415T093000
DTSTAMP:20260419T220306
CREATED:20260313T084410Z
LAST-MODIFIED:20260417T132438Z
UID:10010512-1776245400-1776245400@bayarearegistry.com
SUMMARY:Virtual | International Conference on Public Health and Health Care System
DESCRIPTION:PAGES conferences are excited to invite you to the upcoming International Conference on Public Health and Health Care System\, scheduled to take place from April 13-15\, 2026 in the city of finance Paris\, France. \nThis event will bring together leading experts for keynote addresses\, dynamic panel discussions\, and engaging workshops that aim to poster collaboration and inspire innovative ideas. Topics will span a range of critical areas\, including disease prevention\, health promotion\, epidemiology\, environmental health\, and global health policy. \nOverall\, the International Conference on Public Health and Health Care Research and Development promises to be an important forum for advancing our understanding of Public Health and Health Care and exploring innovative solutions to global health challenges. \nInfo & Tickets
URL:https://bayarearegistry.com/event/international-conference-on-public-health-and-health-care-system/
LOCATION:[ Virtual ]\, CA
CATEGORIES:Arts + Culture,Conversations + Speakers + Conferences,Virtual
ATTACH;FMTTYPE=image/jpeg:https://bayarearegistry.com/wp-content/uploads/2026/03/public_health2026_logo_pages-e1773391354707.jpg
END:VEVENT
BEGIN:VEVENT
DTSTART;TZID=America/Los_Angeles:20260413T200000
DTEND;TZID=America/Los_Angeles:20260413T200000
DTSTAMP:20260419T220306
CREATED:20260405T081319Z
LAST-MODIFIED:20260417T132421Z
UID:10010631-1776110400-1776110400@bayarearegistry.com
SUMMARY:Virtual | Hidden Crises Stress\,Mental Health & Brain Health Virtual Conference
DESCRIPTION:Toxic stress\, rising suicide rates among Black men and boys\, and increasing cases of Alzheimer’s and dementia are pressing but often ignored issues. This conference will uncover the connections between stress\, mental health\, and cognitive decline while exploring culturally relevant solutions for healing and resilience. \nInfo & Tickets
URL:https://bayarearegistry.com/event/virtual-hidden-crises-stressmental-health-brain-health-virtual-conference/
LOCATION:[ Virtual ]\, CA
CATEGORIES:Arts + Culture,Conversations + Speakers + Conferences,Health + Wellness,Virtual
ATTACH;FMTTYPE=image/jpeg:https://bayarearegistry.com/wp-content/uploads/2026/04/cbhn_conference_flyer-scaled-e1775376696450.jpg
END:VEVENT
BEGIN:VEVENT
DTSTART;VALUE=DATE:20260413
DTEND;VALUE=DATE:20260416
DTSTAMP:20260419T220306
CREATED:20250920T060336Z
LAST-MODIFIED:20260417T132629Z
UID:10009293-1776038400-1776297599@bayarearegistry.com
SUMMARY:Virtual | International Conference on Public Health and Health Care System
DESCRIPTION:PAGES conferences are excited to invite you to the upcoming International Conference on Public Health and Health Care System\, scheduled to take place from April 13-15\, 2026 in the city of finance Paris\, France. \nThis event will bring together leading experts for keynote addresses\, dynamic panel discussions\, and engaging workshops that aim to poster collaboration and inspire innovative ideas. Topics will span a range of critical areas\, including disease prevention\, health promotion\, epidemiology\, environmental health\, and global health policy. \nInfo & Tickets
URL:https://bayarearegistry.com/event/virtual-international-conference-on-public-health-and-health-care-system/
LOCATION:[ Virtual ]\, CA
CATEGORIES:Arts + Culture,Conversations + Speakers + Conferences,Health + Wellness,Virtual
ATTACH;FMTTYPE=image/jpeg:https://bayarearegistry.com/wp-content/uploads/2025/09/public_health2026_logo_pages-e1758348063991.jpg
END:VEVENT
BEGIN:VEVENT
DTSTART;TZID=America/Los_Angeles:20260411T120000
DTEND;TZID=America/Los_Angeles:20260411T133000
DTSTAMP:20260419T220306
CREATED:20260320T092202Z
LAST-MODIFIED:20260413T191317Z
UID:10010522-1775908800-1775914200@bayarearegistry.com
SUMMARY:Virtual | Community Feedback Session
DESCRIPTION:Your Voice Is Critical—Now Is the Time to Shape Reparations in Alameda County \nListening Sessions were held across the county since last October … gathering input\, documenting hundreds of voices. Now we have findings and recommendations. \nIt’s time for the big reveal and your help is needed shaping the final recommendations. It’s happening Saturday\, April 11 at the Community Feedback Session (virtual). \nYou join us\, you review the findings\, you weigh in\, then you help determine what makes the cut — before the draft Action Plan is written. \nYour input will directly influence what reparations actually looks like in Alameda County — for real people\, in real communities. You are needed in the session to make sure it’s right. \nIf you attended a Listening Session — you’re needed again. If you didn’t — this is your moment. \nFree RSVP Here \nCo-Host: Oakland African American Chamber of Commerce \nSupporting Organizations: 100 Black Men of the Bay Area • 360 Total Concept • 1st Friday of the Bay Area • Bay Area Black Professionals Group • BWOPA (Black Women Organized for Political Action) • Family Wellness Group • National Society of Black Engineers (Bay Area Professionals) • National Black MBA Association (SF Bay Area Chapter) • San Francisco National Organization of Minority Architects • Women’s Council of Associated Real Property Brokers
URL:https://bayarearegistry.com/event/virtual-community-feedback-session/
LOCATION:[ Virtual ]\, CA
CATEGORIES:Arts + Culture,Community,Conversations + Speakers + Conferences,Free Admission,Race + Politics,Virtual
ATTACH;FMTTYPE=image/png:https://bayarearegistry.com/wp-content/uploads/2026/03/unnamed-2-e1773998491339.png
END:VEVENT
BEGIN:VEVENT
DTSTART;TZID=America/Los_Angeles:20260408T173000
DTEND;TZID=America/Los_Angeles:20260408T173000
DTSTAMP:20260419T220306
CREATED:20260324T071729Z
LAST-MODIFIED:20260409T074745Z
UID:10010524-1775669400-1775669400@bayarearegistry.com
SUMMARY:Virtual | Imagine That
DESCRIPTION:A guided and interactive workshop to clarify your vision and create a magical\, digital vision board that enriches your life. \nThis signature program is guided by music and prompts. You’ll slowly put together a clear vision of what you’re looking to activate in your life\, and then you’ll design a digital vision board that inspires your action and dream manifestation. No experience needed\, only a desire to actualize more of what you want. \nInfo & Tickets
URL:https://bayarearegistry.com/event/imagine-that/
LOCATION:[ Virtual ]\, CA
CATEGORIES:Arts + Culture,Virtual,Visual Arts
ATTACH;FMTTYPE=image/jpeg:https://bayarearegistry.com/wp-content/uploads/2026/03/imaginethat-e1774336588488.jpg
END:VEVENT
BEGIN:VEVENT
DTSTART;VALUE=DATE:20260406
DTEND;VALUE=DATE:20260409
DTSTAMP:20260419T220306
CREATED:20250906T153244Z
LAST-MODIFIED:20260409T074755Z
UID:10009113-1775433600-1775692799@bayarearegistry.com
SUMMARY:Virtual | 18th International Conference on Midwifery\, Nursing & Primary Healthcare
DESCRIPTION:We are delighted to invite you to the 18th International Conference on Midwifery\, Nursing & Primary Healthcare\, a landmark event dedicated to advancing maternal health\, nursing excellence\, and integrated primary care. Set in the heart of the historic city of Rome\, Italy\, this global gathering will take place from April 06 to 08\, 2026 at the prestigious Midas Palace Hotel. \nInfo & Tickets
URL:https://bayarearegistry.com/event/virtual-18th-international-conference-on-midwifery-nursing-primary-healthcare/
LOCATION:[ Virtual ]\, CA
CATEGORIES:Arts + Culture,Conversations + Speakers + Conferences,Health + Wellness,Virtual
ATTACH;FMTTYPE=image/jpeg:https://bayarearegistry.com/wp-content/uploads/2025/09/midwiferyconference2026-e1757172719381.jpg
END:VEVENT
BEGIN:VEVENT
DTSTART;TZID=America/Los_Angeles:20260329T120000
DTEND;TZID=America/Los_Angeles:20260329T120000
DTSTAMP:20260419T220306
CREATED:20260301T083758Z
LAST-MODIFIED:20260401T065037Z
UID:10010443-1774785600-1774785600@bayarearegistry.com
SUMMARY:Virtual | Retro Reading Club
DESCRIPTION:Go ahead and dust off your copy or grab one from your local library and meet us online for rich and reflective conversation as we explore another book that swept the nation in the 90s and influenced a generation of Black girls and women. Come for the nostalgia\, stay for the culture and connection. \nInfo & Tickets
URL:https://bayarearegistry.com/event/virtual-retro-reading-club/
LOCATION:[ Virtual ]\, CA
CATEGORIES:Arts + Culture,Conversations + Speakers + Conferences,Virtual
ATTACH;FMTTYPE=image/png:https://bayarearegistry.com/wp-content/uploads/2026/03/Retro-Reading-Club-e1772354190491.png
END:VEVENT
BEGIN:VEVENT
DTSTART;TZID=America/Los_Angeles:20260327T080000
DTEND;TZID=America/Los_Angeles:20260327T170000
DTSTAMP:20260419T220306
CREATED:20260327T111735Z
LAST-MODIFIED:20260401T064912Z
UID:10010539-1774598400-1774630800@bayarearegistry.com
SUMMARY:Virtual | CBHN Host Virtual Behavioral & Mental Health Conference Address Black Mental Health
DESCRIPTION:The California Black Health Network (CBHM) will host a Virtual Behavioral and Mental Health Conference on Wednesday\, May 13\, 2026\, from 8:00 AM to 1:00 PM\, bringing together leading experts to address some of the most urgent and often overlooked mental health challenges facing Black communities. Registration is now open\, with an Early Bird registration fee of $40 for Black Health Network (BHN) members and $60 for non-BHN members. Early Bird expires April 1\, 2026. \nInfo & Tickets
URL:https://bayarearegistry.com/event/virtual-cbhn-host-virtual-behavioral-mental-health-conference-address-black-mental-health/
LOCATION:[ Virtual ]\, CA
CATEGORIES:Arts + Culture,Conversations + Speakers + Conferences,Health + Wellness,Virtual
ATTACH;FMTTYPE=image/png:https://bayarearegistry.com/wp-content/uploads/2026/03/CBHN-Host-Virtual-Behavioral-Mental-Health-Conference-Address-Black-Mental-Health-e1774610201633.png
END:VEVENT
BEGIN:VEVENT
DTSTART;TZID=America/Los_Angeles:20260313T080000
DTEND;TZID=America/Los_Angeles:20260313T080000
DTSTAMP:20260419T220306
CREATED:20260313T083823Z
LAST-MODIFIED:20260316T144216Z
UID:10010511-1773388800-1773388800@bayarearegistry.com
SUMMARY:Virtual | Mental and Behavioral Health Conference: Hidden Crises – Stress\, Mental Health\, & Brain Health in the Black Community
DESCRIPTION:We are raising awareness\, breaking stigmas\, and building a path toward better mental and brain health for our community. This conference is a timely\, expert-led intervention and offers what professionals\, advocates\, and communities urgently need right now: culturally grounded expertise\, real-world policy analysis\, and actionable strategies for prevention\, care\, and advocacy for the health and well-being of our community. \nInfo & Tickets
URL:https://bayarearegistry.com/event/virtual-mental-and-behavioral-health-conference-hidden-crises-stress-mental-health-brain-health-in-the-black-community/
LOCATION:[ Virtual ]\, CA
CATEGORIES:Arts + Culture,Conversations + Speakers + Conferences,Health + Wellness,Virtual
ATTACH;FMTTYPE=image/jpeg:https://bayarearegistry.com/wp-content/uploads/2026/03/cbhn_conference_flyer-scaled-e1773391085685.jpg
END:VEVENT
BEGIN:VEVENT
DTSTART;TZID=America/Los_Angeles:20260225T180000
DTEND;TZID=America/Los_Angeles:20260225T190000
DTSTAMP:20260419T220306
CREATED:20260120T181713Z
LAST-MODIFIED:20260227T094018Z
UID:10009954-1772042400-1772046000@bayarearegistry.com
SUMMARY:MoAD Mix – A Spirited Discussion on Art & Culture
DESCRIPTION:Join us for an illuminating edition of MoAD Mix: A Spirited Discussion on Art & Culture\, featuring Nigerian-American artist Mikael Owunna and his celebrated photographic series Infinite Essence. \nOwunna’s work reimagines Black bodies as sites of cosmic brilliance—glowing with light\, divinity\, and ancestral power. Through multispectral photography\, he transforms the Black figure into a celestial being\, challenging narratives of violence and invisibility by revealing a universe within. \nInfo & Tickets
URL:https://bayarearegistry.com/event/moad-mix-a-spirited-discussion-on-art-culture-2/
LOCATION:[ Virtual ]\, CA
CATEGORIES:Arts + Culture,Conversations + Speakers + Conferences,Virtual
ATTACH;FMTTYPE=image/png:https://bayarearegistry.com/wp-content/uploads/2026/01/683f2b306bc1bfbd2f2ceaa7_MoAD-Mix-w_Keisha-2-e1768933021142.png
ORGANIZER;CN="MoAD | Museum of the African Diaspora":MAILTO:info@moadsf.org
END:VEVENT
BEGIN:VEVENT
DTSTART;TZID=America/Los_Angeles:20260222T100000
DTEND;TZID=America/Los_Angeles:20260222T100000
DTSTAMP:20260419T220306
CREATED:20260127T073726Z
LAST-MODIFIED:20260225T203630Z
UID:10010014-1771754400-1771754400@bayarearegistry.com
SUMMARY:Virtual | Bloom - A Wellness App Made for Dancers\, by Dancers with Arthur Erlanson and Lincoln Sharp
DESCRIPTION:In this session\, we’ll explore the mental and emotional realities of dance from the perspective of two working professionals with the Royal Swedish Ballet. We’ll share the challenges we’ve faced along the way\, from training in school to company life\, and the tools that helped us manage pressure\, self-doubt\, and the demands of the studio. \nInfo & Tickets
URL:https://bayarearegistry.com/event/virtual-bloom-a-wellness-app-made-for-dancers-by-dancers-with-arthur-erlanson-and-lincoln-sharp/
LOCATION:[ Virtual ]\, CA
CATEGORIES:Arts + Culture,Dance,Health + Wellness,Performing Arts,Virtual
ATTACH;FMTTYPE=image/jpeg:https://bayarearegistry.com/wp-content/uploads/2026/01/image4-e1769499419405.jpg
END:VEVENT
BEGIN:VEVENT
DTSTART;TZID=America/Los_Angeles:20260217T170000
DTEND;TZID=America/Los_Angeles:20260217T170000
DTSTAMP:20260419T220306
CREATED:20260126T103616Z
LAST-MODIFIED:20260218T081929Z
UID:10010010-1771347600-1771347600@bayarearegistry.com
SUMMARY:Virtual | Maintaining a Healthy Career Through Nutrition with Libby Parker\, MS\, RD\, CDN\, CEDS
DESCRIPTION:Libby Parker will help dancers and their parents/teachers with information about maintaining their bodies for a long career through nutrition. With ample time for Q&A\, Libby will cover the timing of eating\, common nutrition deficiencies in dancers (and how they impact dance)\, as well as other hot topics like energy drinks. \nInfo & Tickets
URL:https://bayarearegistry.com/event/virtual-maintaining-a-healthy-career-through-nutrition-with-libby-parker-ms-rd-cdn-ceds/
LOCATION:[ Virtual ]\, CA
CATEGORIES:Arts + Culture,Dance,Performing Arts,Virtual
ATTACH;FMTTYPE=image/jpeg:https://bayarearegistry.com/wp-content/uploads/2026/01/image5-e1769423676355.jpg
END:VEVENT
BEGIN:VEVENT
DTSTART;TZID=America/Los_Angeles:20260213T010000
DTEND;TZID=America/Los_Angeles:20260213T010000
DTSTAMP:20260419T220306
CREATED:20260201T151045Z
LAST-MODIFIED:20260216T141022Z
UID:10010152-1770944400-1770944400@bayarearegistry.com
SUMMARY:Want Black History at Work? We Can Help With That.
DESCRIPTION:A virtual session exploring how Black history and culture can be shared at work through\, professional programming. \nOrganizations across the country are navigating how to offer meaningful cultural and historical learning experiences at work. Even as language and approaches evolve\, the need for understanding\, context\, and connection has not gone away. \nInfo & Tickets
URL:https://bayarearegistry.com/event/want-black-history-at-work-we-can-help-with-that/2026-02-13/
LOCATION:[ Virtual ]\, CA
CATEGORIES:Arts + Culture,BHM 2026,Community,Conversations + Speakers + Conferences,Virtual
ATTACH;FMTTYPE=image/jpeg:https://bayarearegistry.com/wp-content/uploads/2026/02/https___cdn.evbuc_.com_images_1175867373_613551685753_1_original-e1769958637961.jpg
END:VEVENT
BEGIN:VEVENT
DTSTART;TZID=America/Los_Angeles:20260206T010000
DTEND;TZID=America/Los_Angeles:20260206T010000
DTSTAMP:20260419T220306
CREATED:20260201T151045Z
LAST-MODIFIED:20260216T141022Z
UID:10010151-1770339600-1770339600@bayarearegistry.com
SUMMARY:Want Black History at Work? We Can Help With That.
DESCRIPTION:A virtual session exploring how Black history and culture can be shared at work through\, professional programming. \nOrganizations across the country are navigating how to offer meaningful cultural and historical learning experiences at work. Even as language and approaches evolve\, the need for understanding\, context\, and connection has not gone away. \nInfo & Tickets
URL:https://bayarearegistry.com/event/want-black-history-at-work-we-can-help-with-that/2026-02-06/
LOCATION:[ Virtual ]\, CA
CATEGORIES:Arts + Culture,BHM 2026,Community,Conversations + Speakers + Conferences,Virtual
ATTACH;FMTTYPE=image/jpeg:https://bayarearegistry.com/wp-content/uploads/2026/02/https___cdn.evbuc_.com_images_1175867373_613551685753_1_original-e1769958637961.jpg
END:VEVENT
BEGIN:VEVENT
DTSTART;TZID=America/Los_Angeles:20260203T170000
DTEND;TZID=America/Los_Angeles:20260203T170000
DTSTAMP:20260419T220306
CREATED:20260129T164136Z
LAST-MODIFIED:20260205T173104Z
UID:10010050-1770138000-1770138000@bayarearegistry.com
SUMMARY:Reading Californians Book Discussion: Nicola Twilley on ‘Frostbite’
DESCRIPTION:Meet author Nicola Twilley when we discuss her winner of the California Book Awards’ 2024 gold medal in nonfiction\, Frostbite\, via Zoom. \nIn this book\, we learn about how refrigeration\, which we take for granted in our daily lies\, changed how we eat as well as the effects on our health and the environment. Twilley\, co-host of the “Gastropod” podcast\, investigates the “cold chain” that connects farms to our refrigerators\, revealing how artificial cold has reshaped everything from the availability of bananas to the taste of tomatoes\, and created a world where nearly three-quarters of our food is processed\, shipped and stored under refrigeration. \nInfo & Tickets
URL:https://bayarearegistry.com/event/reading-californians-book-discussion-nicola-twilley-on-frostbite/
LOCATION:[ Virtual ]\, CA
CATEGORIES:Arts + Culture,Conversations + Speakers + Conferences,Literary,Virtual
ATTACH;FMTTYPE=image/png:https://bayarearegistry.com/wp-content/uploads/2026/01/20260203-Reading-Californians-HERO-e1769704886972.png
ORGANIZER;CN="Commonwealth Club World Affairs (CCWA)":MAILTO:info@commonwealthclub.org
END:VEVENT
END:VCALENDAR